BEGIN:VCALENDAR
VERSION:2.0
PRODID:-//I Love Babylon, NY - ECPv6.15.20//NONSGML v1.0//EN
CALSCALE:GREGORIAN
METHOD:PUBLISH
X-WR-CALNAME:I Love Babylon, NY
X-ORIGINAL-URL:https://ilovebabylon.com
X-WR-CALDESC:Events for I Love Babylon, NY
REFRESH-INTERVAL;VALUE=DURATION:PT1H
X-Robots-Tag:noindex
X-PUBLISHED-TTL:PT1H
BEGIN:VTIMEZONE
TZID:America/New_York
BEGIN:DAYLIGHT
TZOFFSETFROM:-0500
TZOFFSETTO:-0400
TZNAME:EDT
DTSTART:20250309T070000
END:DAYLIGHT
BEGIN:STANDARD
TZOFFSETFROM:-0400
TZOFFSETTO:-0500
TZNAME:EST
DTSTART:20251102T060000
END:STANDARD
BEGIN:DAYLIGHT
TZOFFSETFROM:-0500
TZOFFSETTO:-0400
TZNAME:EDT
DTSTART:20260308T070000
END:DAYLIGHT
BEGIN:STANDARD
TZOFFSETFROM:-0400
TZOFFSETTO:-0500
TZNAME:EST
DTSTART:20261101T060000
END:STANDARD
BEGIN:DAYLIGHT
TZOFFSETFROM:-0500
TZOFFSETTO:-0400
TZNAME:EDT
DTSTART:20270314T070000
END:DAYLIGHT
BEGIN:STANDARD
TZOFFSETFROM:-0400
TZOFFSETTO:-0500
TZNAME:EST
DTSTART:20271107T060000
END:STANDARD
END:VTIMEZONE
BEGIN:VEVENT
DTSTART;TZID=America/New_York:20260411T123000
DTEND;TZID=America/New_York:20260411T163000
DTSTAMP:20260422T102315
CREATED:20260410T090838Z
LAST-MODIFIED:20260410T090927Z
UID:10008094-1775910600-1775925000@ilovebabylon.com
SUMMARY:2026 Babylon Village "Blood Cancer United" Annual Fundraiser-14th Annual
DESCRIPTION:Subject: April 11th Saturday @12:30PM \nWe’re excited to introduce the 14th Annual Babylon Village “Blood Cancer United” Fundraiser — a meaningful day dedicated to bringing our community together in support of an incredible cause. \nBeginning at 12:30 PM at Post Office Café\, guests can pick up pre-ordered shirts\, check in\, and purchase raffle tickets. \nOur main event will take place at The James\, starting at 1:00 PM. During this time\, guests can mingle\, connect with friends\, and continue participating in raffles while we honor both survivors and those we have lost. The program will run from 1:30 PM to 3:00 PM. \nAfterward\, enjoy everything Babylon Village has to offer as the streets will be closed for the Babylon Chamber of Commerce Spring Fling — a great opportunity to grab lunch\, support our local merchants\, enjoy drinks\, and spend time around town at your own pace. #shoplocal \nThe day continues with a second celebration at Mary Carroll’s starting at 3:30 PM\, featuring drink specials\, music\, great company\, and additional raffle prizes. This portion of the event will also honor the life of Bob Mancuso (Dana’s dad)\, who we lost last year. \nWe look forward to spending a special and memorable day together as we raise funds and awareness for Blood Cancer United. \nhttps://www.active.com/babylon-ny/running/distance-running/14th-annual-babylon-village-pub-crawl-2026 \nCheers\,Bob MckeownDana Meadows
URL:https://ilovebabylon.com/event/2026-babylon-village-blood-cancer-united-annual-fundraiser-14th-annual/
LOCATION:Post Office Cafe\, 130 West Main Street\, Babylon\, NY\, 11702\, US
END:VEVENT
END:VCALENDAR