BEGIN:VCALENDAR
VERSION:2.0
PRODID:-//I Love Babylon, NY - ECPv6.15.20//NONSGML v1.0//EN
CALSCALE:GREGORIAN
METHOD:PUBLISH
X-WR-CALNAME:I Love Babylon, NY
X-ORIGINAL-URL:https://ilovebabylon.com
X-WR-CALDESC:Events for I Love Babylon, NY
REFRESH-INTERVAL;VALUE=DURATION:PT1H
X-Robots-Tag:noindex
X-PUBLISHED-TTL:PT1H
BEGIN:VTIMEZONE
TZID:America/New_York
BEGIN:DAYLIGHT
TZOFFSETFROM:-0500
TZOFFSETTO:-0400
TZNAME:EDT
DTSTART:20250309T070000
END:DAYLIGHT
BEGIN:STANDARD
TZOFFSETFROM:-0400
TZOFFSETTO:-0500
TZNAME:EST
DTSTART:20251102T060000
END:STANDARD
BEGIN:DAYLIGHT
TZOFFSETFROM:-0500
TZOFFSETTO:-0400
TZNAME:EDT
DTSTART:20260308T070000
END:DAYLIGHT
BEGIN:STANDARD
TZOFFSETFROM:-0400
TZOFFSETTO:-0500
TZNAME:EST
DTSTART:20261101T060000
END:STANDARD
BEGIN:DAYLIGHT
TZOFFSETFROM:-0500
TZOFFSETTO:-0400
TZNAME:EDT
DTSTART:20270314T070000
END:DAYLIGHT
BEGIN:STANDARD
TZOFFSETFROM:-0400
TZOFFSETTO:-0500
TZNAME:EST
DTSTART:20271107T060000
END:STANDARD
END:VTIMEZONE
BEGIN:VEVENT
DTSTART;TZID=America/New_York:20260411T120000
DTEND;TZID=America/New_York:20260411T140000
DTSTAMP:20260424T070452
CREATED:20260331T230729Z
LAST-MODIFIED:20260403T171914Z
UID:10008093-1775908800-1775916000@ilovebabylon.com
SUMMARY:Shred-a-Thon
DESCRIPTION:✨️𝙎𝙖𝙫𝙚-𝙏𝙝𝙚-𝘿𝙖𝙩𝙚!✨️ \n✨️Saturday – April 11th ✨️9:00 a.m. till 11:00 a.m.  \n✨️I will be Hosting a Shred-a-Thon ✨️At our Babylon office\, in the back parking lot.. \n✨️This is a COMPLIMENTARY Service For YOU..💛 \n📃 So put together any of your old documents & unwanted papers.. \n✨️Everything will be Shredded in a Professional Mobile Shredding Truck 🚚 & then Recycled..♻️  \n✨️No Need to Remove Staples or Paper Clips!🙂 \n𝙔𝙤𝙪𝙧 𝙁𝙖𝙫𝙤𝙧𝙞𝙩𝙚 𝙍𝙚𝙖𝙡𝙩𝙤𝙧\,  \n𝗟𝗶𝘀𝗮 𝗣𝗮𝗹𝗲𝗿𝗺𝗼 𝗟𝗶𝗰𝗲𝗻𝘀𝗲𝗱 𝗔𝘀𝘀𝗼𝗰𝗶𝗮𝘁𝗲 𝗥𝗲𝗮𝗹 𝗘𝘀𝘁𝗮𝘁𝗲 𝗕𝗿𝗼𝗸𝗲𝗿 𝗦𝗶𝗴𝗻𝗮𝘁𝘂𝗿𝗲 𝗣𝗿𝗲𝗺𝗶𝗲𝗿 𝗣𝗿𝗼𝗽𝗲𝗿𝘁𝗶𝗲𝘀𝟭𝟮𝟲 𝗪. 𝗠𝗮𝗶𝗻 𝗦𝘁.\, 𝗕𝗮𝗯𝘆𝗹𝗼𝗻📲𝗖𝗲𝗹𝗹 #: 𝟲𝟯𝟭-𝟵𝟮𝟭-𝟵𝟵𝟳𝟵 \n#ShredAthon #SignatureCares #EarthDay
URL:https://ilovebabylon.com/event/shred-a-thon/
LOCATION:126 W. Main Street\, Babylon\, NY\, 126 W. Main Street\, Babylon\, NY
END:VEVENT
END:VCALENDAR