BEGIN:VCALENDAR
VERSION:2.0
PRODID:-//I Love Babylon, NY - ECPv6.15.20//NONSGML v1.0//EN
CALSCALE:GREGORIAN
METHOD:PUBLISH
X-WR-CALNAME:I Love Babylon, NY
X-ORIGINAL-URL:https://ilovebabylon.com
X-WR-CALDESC:Events for I Love Babylon, NY
REFRESH-INTERVAL;VALUE=DURATION:PT1H
X-Robots-Tag:noindex
X-PUBLISHED-TTL:PT1H
BEGIN:VTIMEZONE
TZID:America/New_York
BEGIN:DAYLIGHT
TZOFFSETFROM:-0500
TZOFFSETTO:-0400
TZNAME:EDT
DTSTART:20250309T070000
END:DAYLIGHT
BEGIN:STANDARD
TZOFFSETFROM:-0400
TZOFFSETTO:-0500
TZNAME:EST
DTSTART:20251102T060000
END:STANDARD
BEGIN:DAYLIGHT
TZOFFSETFROM:-0500
TZOFFSETTO:-0400
TZNAME:EDT
DTSTART:20260308T070000
END:DAYLIGHT
BEGIN:STANDARD
TZOFFSETFROM:-0400
TZOFFSETTO:-0500
TZNAME:EST
DTSTART:20261101T060000
END:STANDARD
BEGIN:DAYLIGHT
TZOFFSETFROM:-0500
TZOFFSETTO:-0400
TZNAME:EDT
DTSTART:20270314T070000
END:DAYLIGHT
BEGIN:STANDARD
TZOFFSETFROM:-0400
TZOFFSETTO:-0500
TZNAME:EST
DTSTART:20271107T060000
END:STANDARD
END:VTIMEZONE
BEGIN:VEVENT
DTSTART;TZID=America/New_York:20260317T140000
DTEND;TZID=America/New_York:20260317T220000
DTSTAMP:20260423T082717
CREATED:20260226T185018Z
LAST-MODIFIED:20260312T175442Z
UID:10007816-1773756000-1773784800@ilovebabylon.com
SUMMARY:St Patty’s at the 50
DESCRIPTION:• Drink Specials • Free Hot Buffet• Custom-made T-shirts
URL:https://ilovebabylon.com/event/st-pattys-at-the-50/
LOCATION:371 Little East Neck Rd\, West Babylon\, NY\, 371 Little East Neck Rd\, West Babylon\, NY
END:VEVENT
BEGIN:VEVENT
DTSTART;TZID=America/New_York:20260315T140000
DTEND;TZID=America/New_York:20260315T170000
DTSTAMP:20260423T082717
CREATED:20260226T185008Z
LAST-MODIFIED:20260312T175415Z
UID:10007812-1773583200-1773594000@ilovebabylon.com
SUMMARY:Farmingdale's St. Patrick's Day Parade - 3/15/26
DESCRIPTION:Farmingdale’s St. Patrick’s Day Parade ~ Sunday 3/15/26\, 2pm.Parade step off is 2 pm from Northside School\, the parade proceeds down Main Street to the Village Green (361 Main St) \nFarmingdale ~ Get your Green On ~ Join the community for a great Parade ~ fun day in downtown Farmingdale \nExplore the many downtown merchants\,shop & dine local ~ Village of Farmingdale ~ Home of the Culinary Quarter Mile  \nIf you or your organization would like to March in the Village of Farmingdale St. Patrick’s Day Parade\, scan QR code\, email Joe Fortuna\, Joef@thenuttyirishman.com for more details\, or call 5126-293-9700.Participants arrive at Northside School about 1:30pm to line-up. \n🍀 Parade Grand Marshal 🍀Brian Harty\, Farmingdale Village Administrator – Clerk/Treasurer 🍀 \nMain Street will be temporarily closed for the parade. \n☘️ Special Thanks to Joe Fortuna of The Nutty Irishman/317 Main Street\, all merchants\, The Farmingdale Business Improvement District\,Farmingdale Fire Dept\, Farmingdale Chamber of Commerce\, all marchers\,organizations\, participants\, School District\, event planners\, all others helping to make the Parade a success! 🍀
URL:https://ilovebabylon.com/event/farmingdales-st-patricks-day-parade-3-15-26/
LOCATION:Main St\, Farmingdale\, NY 11735\, United States\, Main St\, Farmingdale\, NY 11735\, United States
CATEGORIES:Featured Events
END:VEVENT
BEGIN:VEVENT
DTSTART;TZID=America/New_York:20260315T120000
DTEND;TZID=America/New_York:20260315T150000
DTSTAMP:20260423T082717
CREATED:20260301T075324Z
LAST-MODIFIED:20260312T175410Z
UID:10007881-1773576000-1773586800@ilovebabylon.com
SUMMARY:Shamrock Boozy Bingo Brunch
DESCRIPTION:Wear green. Bring the Luck! Let’s make this a St. Paddy’s Brunch you’ll almost remember! 🍀🍻 $50/person unlimited brunch cocktails\, brunch buffet\, includes (1) bingo card
URL:https://ilovebabylon.com/event/shamrock-boozy-bingo-brunch/
LOCATION:345 Deer Park Ave\, Babylon\, NY\, United States\, New York 11702\, 345 Deer Park Ave\, Babylon\, NY\, United States\, New York 11702
END:VEVENT
BEGIN:VEVENT
DTSTART;TZID=America/New_York:20260313T200000
DTEND;TZID=America/New_York:20260313T230000
DTSTAMP:20260423T082717
CREATED:20260312T175313Z
LAST-MODIFIED:20260312T175313Z
UID:10007906-1773432000-1773442800@ilovebabylon.com
SUMMARY:Zocial LIVE at The Nutty Irishman
DESCRIPTION:Join The Nutty Irishman on Friday\, March 13th at 8:00 PM for Zocial. $10 Cover at the Door.
URL:https://ilovebabylon.com/event/zocial-live-at-the-nutty-irishman/
LOCATION:323 Main St\, Farmingdale\, NY\, United States\, New York 11735\, 323 Main St\, Farmingdale\, NY\, United States\, New York 11735
END:VEVENT
BEGIN:VEVENT
DTSTART;TZID=America/New_York:20260312T170000
DTEND;TZID=America/New_York:20260312T200000
DTSTAMP:20260423T082717
CREATED:20260226T184805Z
LAST-MODIFIED:20260312T175231Z
UID:10007802-1773334800-1773345600@ilovebabylon.com
SUMMARY:Meet Ashley Graham at Stew Leonard's Wine & Spirits of Farmingdale!
DESCRIPTION:ASHLEY GRAHAM’S NEXT MOVE IS SPARKLING \nThe Supermodel Is Bringing Her Bubbly Lambrusco to Stew Leonard’s Wines & Spirits for a Bottle Signing. \nWHO: Supermodel\, entrepreneur\, and certified Lambrusco loyalist\, Ashley Graham will sashay down the aisle at Stew Leonard’s Wines & Spirits for a fashionable bottle signing. \nWHAT: Fresh off its debut this month\, Graham’s new Lambrusco label\, LUCCI\, launched with co-founder Danny Epstein\, is giving old-school Italian wine a flirty refresh. Crafted with a fifth-generation winemaker in Emilia-Romagna (aka Lambrusco country)\, the wine is bright\, lightly sparkling\, and packed with notes of ripe red and dark berries. \nWHEN: March 12th at 5:00pm \nWHERE: Stew Leonard’s Wines & Spirits210 Airport Plaza Blvd\, Farmingdale\, NY 11735 \nWHY: “To know me is to know I love Lambrusco. It’s been my go-to wine for years\,” says Ashley who initially slid into Danny’s DMs over their shared love of Lambrusco. “Lucci is a dry\, sparkling red wine that brings people together.” \n#ashleygraham #stewswines #farmingdale #celebrityevent
URL:https://ilovebabylon.com/event/meet-ashley-graham-at-stew-leonards-wine-spirits-of-farmingdale/
LOCATION:Stew Leonard’s Wine & Spirits of Farmingdale\, 210 Airport Plaza Blvd\, Farmingdale\, NY\, 11735\, US
CATEGORIES:Arts and Crafts
END:VEVENT
BEGIN:VEVENT
DTSTART;TZID=America/New_York:20260311T190000
DTEND;TZID=America/New_York:20260311T220000
DTSTAMP:20260423T082717
CREATED:20260301T075201Z
LAST-MODIFIED:20260307T121909Z
UID:10007878-1773255600-1773266400@ilovebabylon.com
SUMMARY:Derek Warfield & The Young Wolfetones
DESCRIPTION:Ticket is entry only – does not include table – Must make dinner reservations AFTER purchasing tickets
URL:https://ilovebabylon.com/event/derek-warfield-the-young-wolfetones/
LOCATION:345 Deer Park Ave\, Babylon\, NY\, United States\, New York 11702\, 345 Deer Park Ave\, Babylon\, NY\, United States\, New York 11702
END:VEVENT
BEGIN:VEVENT
DTSTART;TZID=America/New_York:20260307T190000
DTEND;TZID=America/New_York:20260307T220000
DTSTAMP:20260423T082717
CREATED:20260301T075112Z
LAST-MODIFIED:20260307T121806Z
UID:10007875-1772910000-1772920800@ilovebabylon.com
SUMMARY:Dueling Pianos @ Lily's
DESCRIPTION:Get ready for a sing-along showdown where YOU pick the playlist! Dueling Pianos @ Lily’s Babylon @ 7 pm
URL:https://ilovebabylon.com/event/dueling-pianos-lilys/
LOCATION:345 Deer Park Ave\, Babylon\, NY\, United States\, New York 11702\, 345 Deer Park Ave\, Babylon\, NY\, United States\, New York 11702
END:VEVENT
BEGIN:VEVENT
DTSTART;TZID=America/New_York:20260306T203000
DTEND;TZID=America/New_York:20260306T233000
DTSTAMP:20260423T082717
CREATED:20260226T184613Z
LAST-MODIFIED:20260307T121748Z
UID:10007783-1772829000-1772839800@ilovebabylon.com
SUMMARY:Killa Karaoke Friday
DESCRIPTION:Come on down and sing your favorite songs.Always a good time at the 50 Yardline!!!
URL:https://ilovebabylon.com/event/killa-karaoke-friday/
LOCATION:50 Yardline Sports Bar\, 371 Little East Neck Rd\, West Babylon\, NY\, 11704\, US
END:VEVENT
BEGIN:VEVENT
DTSTART;TZID=America/New_York:20260304T190000
DTEND;TZID=America/New_York:20260304T220000
DTSTAMP:20260423T082717
CREATED:20260226T184535Z
LAST-MODIFIED:20260301T074925Z
UID:10007771-1772650800-1772661600@ilovebabylon.com
SUMMARY:Amanda’s Pajama Party at the 50 with DJ Fade
DESCRIPTION:Join us for Amanda’s birthday celebration!– Drink Specials – Free Hot Buffet– No Cover Charge
URL:https://ilovebabylon.com/event/amandas-pajama-party-at-the-50-with-dj-fade/
LOCATION:371 Little East Neck Rd\, West Babylon\, NY\, 371 Little East Neck Rd\, West Babylon\, NY
END:VEVENT
BEGIN:VEVENT
DTSTART;TZID=America/New_York:20260301T170000
DTEND;TZID=America/New_York:20260301T200000
DTSTAMP:20260423T082717
CREATED:20260226T184504Z
LAST-MODIFIED:20260301T074839Z
UID:10007763-1772384400-1772395200@ilovebabylon.com
SUMMARY:Mommy and me Mocktail and Cocktails
DESCRIPTION:Calling All The Girly Pops!!!! \nJoin us for our Mocktail & Cocktail Sunday on March 1st\, 2026 from 5–8PM for the perfect mix of quality time\, good vibes\, and great food! ✨For $40\, enjoy a signature cocktail for mom\, a fun mocktail for your little one\, plus half-dozen chicken wontons & Den fries 🍟 \nCreate memories\, laugh loud\, and sip happy — Lionz Den style 🦁💫 \nReservations highly recommended! Link in bio \n#MommyAndMeDate #LionzDenExperience #FamilyVibesOnly #SuffolkEats
URL:https://ilovebabylon.com/event/mommy-and-me-mocktail-and-cocktails/
LOCATION:Online Event\, West Babylon\, NY\, US
END:VEVENT
BEGIN:VEVENT
DTSTART;TZID=America/New_York:20260301T120000
DTEND;TZID=America/New_York:20260301T160000
DTSTAMP:20260423T082717
CREATED:20260226T184450Z
LAST-MODIFIED:20260301T074824Z
UID:10007759-1772366400-1772380800@ilovebabylon.com
SUMMARY:Club Brunch
DESCRIPTION:‼️‼️ THIS SUNDAY! Hit me baby one more time… with another mimosa 💿🥂 $30 unlimited mimosas (2hr max)\, specialty brunch menu\, and pop classics playing 12pm-4pm! Tables are booking up quick\, so be sure to make your reservation NOW! This is gonna be a party for the ages 🍾🎊🎉 \n#brunch #longislandeats #sundaybrunch #90sera #2000sera
URL:https://ilovebabylon.com/event/club-brunch/
LOCATION:7 Depot Pl\, Babylon\, NY\, United States\, New York 11702\, 7 Depot Pl\, Babylon\, NY\, United States\, New York 11702
END:VEVENT
BEGIN:VEVENT
DTSTART;TZID=America/New_York:20260227T200000
DTEND;TZID=America/New_York:20260227T223000
DTSTAMP:20260423T082717
CREATED:20260226T184349Z
LAST-MODIFIED:20260302T135249Z
UID:10007746-1772222400-1772231400@ilovebabylon.com
SUMMARY:Music Bingo with Tracy
DESCRIPTION:Music Bingo with Tracy$10 to play four rounds of bingo. Additional cards available for $5Identify the song and/or artist and match to your game card to win.
URL:https://ilovebabylon.com/event/music-bingo-with-tracy/
LOCATION:371 Little East Neck Rd\, West Babylon\, NY\, 371 Little East Neck Rd\, West Babylon\, NY
CATEGORIES:Music
END:VEVENT
BEGIN:VEVENT
DTSTART;TZID=America/New_York:20260222T120000
DTEND;TZID=America/New_York:20260222T150000
DTSTAMP:20260423T082717
CREATED:20260125T215206Z
LAST-MODIFIED:20260217T190212Z
UID:10007601-1771761600-1771772400@ilovebabylon.com
SUMMARY:Old School Hip Hop Brunch
DESCRIPTION:$50 Buffet. Bottomless Brunch Cocktails.Classic Hip Hop all day with a live DJTimeless brunch vibes only.
URL:https://ilovebabylon.com/event/old-school-hip-hop-brunch-2/
LOCATION:345 Deer Park Ave\, Babylon\, NY\, United States\, New York 11702\, 345 Deer Park Ave\, Babylon\, NY\, United States\, New York 11702
END:VEVENT
BEGIN:VEVENT
DTSTART;TZID=America/New_York:20260219T190000
DTEND;TZID=America/New_York:20260219T220000
DTSTAMP:20260423T082717
CREATED:20260125T214445Z
LAST-MODIFIED:20260217T190110Z
UID:10007592-1771527600-1771538400@ilovebabylon.com
SUMMARY:Speed Dating
DESCRIPTION:💘 Speed Dating at Lily’s🗓 Thursday\, Feb 19 | 7PM🍸 $45 includes 2 drinks🎯 Ages 38–50📲 Text 631-626-9173 to reserve
URL:https://ilovebabylon.com/event/speed-dating/
LOCATION:345 Deer Park Ave\, Babylon\, NY\, United States\, New York 11702\, 345 Deer Park Ave\, Babylon\, NY\, United States\, New York 11702
END:VEVENT
BEGIN:VEVENT
DTSTART;TZID=America/New_York:20260217T190000
DTEND;TZID=America/New_York:20260217T220000
DTSTAMP:20260423T082717
CREATED:20260217T190029Z
LAST-MODIFIED:20260217T190029Z
UID:10007697-1771354800-1771365600@ilovebabylon.com
SUMMARY:Bingo Night
DESCRIPTION:Come to play you might win a prize !!!
URL:https://ilovebabylon.com/event/bingo-night/
LOCATION:470 Fire Island Ave\, Babylon\, NY\, 470 Fire Island Ave\, Babylon\, NY
END:VEVENT
BEGIN:VEVENT
DTSTART;TZID=America/New_York:20260216T120000
DTEND;TZID=America/New_York:20260216T160000
DTSTAMP:20260423T082717
CREATED:20260125T214432Z
LAST-MODIFIED:20260212T190324Z
UID:10007586-1771243200-1771257600@ilovebabylon.com
SUMMARY:Paint\, Slime Time and Make Bracelets - WALK-INS with no reservations required.
DESCRIPTION:Paint\, slime time and bracelet making at Creative Touch MONDAY\, February 16th from 12pm-4pm for walk-ins with no reservations required.Spacious Long Island art studio with plenty of free parking 631-601-6681 http://CreativeTouchLI.com76 E Sunrise Highway Lindenhurst
URL:https://ilovebabylon.com/event/paint-slime-time-and-make-bracelets-walk-ins-with-no-reservations-required-6/
LOCATION:76 E Sunrise\, Lindenhurst\, NY\, United States\, New York 11757\, 76 E Sunrise\, Lindenhurst\, NY\, United States\, New York 11757
END:VEVENT
BEGIN:VEVENT
DTSTART;TZID=America/New_York:20260215T160000
DTEND;TZID=America/New_York:20260215T190000
DTSTAMP:20260423T082717
CREATED:20260212T190306Z
LAST-MODIFIED:20260212T190306Z
UID:10007686-1771171200-1771182000@ilovebabylon.com
SUMMARY:Irish American Heritage Celebration
DESCRIPTION:Get into the Irish spirit with us today! 🍀 Brian McCormack is here from 4–7\, playing traditional Irish tunes that’ll have you singing and dancing all day long. Plus\, our full lineup of Irish favorites is ready to enjoy!
URL:https://ilovebabylon.com/event/irish-american-heritage-celebration/
LOCATION:101 North Wellwood Avenue\, Lindenhurst\, NY\, United States\, New York 11757\, 101 North Wellwood Avenue\, Lindenhurst\, NY\, United States\, New York 11757
END:VEVENT
BEGIN:VEVENT
DTSTART;TZID=America/New_York:20260215T120000
DTEND;TZID=America/New_York:20260215T150000
DTSTAMP:20260423T082717
CREATED:20260125T214414Z
LAST-MODIFIED:20260212T190237Z
UID:10007579-1771156800-1771167600@ilovebabylon.com
SUMMARY:Lilys Psychic Reading
DESCRIPTION:Enjoy a buffet lunch\, soft drinks and a psychic reading by Brenda Worley
URL:https://ilovebabylon.com/event/lilys-psychic-reading/
LOCATION:345 Deer Park Ave\, Babylon\, NY\, United States\, New York 11702\, 345 Deer Park Ave\, Babylon\, NY\, United States\, New York 11702
END:VEVENT
BEGIN:VEVENT
DTSTART;TZID=America/New_York:20260214T210000
DTEND;TZID=America/New_York:20260215T020000
DTSTAMP:20260423T082717
CREATED:20260212T190235Z
LAST-MODIFIED:20260212T190235Z
UID:10007681-1771102800-1771120800@ilovebabylon.com
SUMMARY:Music with DJ Frankie C
DESCRIPTION:Happy Valentine’s Day\, Lindenhurst 💘 Join us tonight for a romantic dinner as The Roche Brothers set the mood from 6–9 PM. Then at 9 PM\, DJ Frankie C takes over and turns Valentine’s Day into a full-blown celebration! And remember… the best love stories start at Belfast. 🍷🎶
URL:https://ilovebabylon.com/event/music-with-dj-frankie-c/
LOCATION:101 North Wellwood Avenue\, Lindenhurst\, NY\, United States\, New York 11757\, 101 North Wellwood Avenue\, Lindenhurst\, NY\, United States\, New York 11757
END:VEVENT
BEGIN:VEVENT
DTSTART;TZID=America/New_York:20260214T180000
DTEND;TZID=America/New_York:20260214T210000
DTSTAMP:20260423T082717
CREATED:20260212T190211Z
LAST-MODIFIED:20260212T190211Z
UID:10007675-1771092000-1771102800@ilovebabylon.com
SUMMARY:Live Music with The Roche Brothers (Valentine's Day)
DESCRIPTION:Happy Valentine’s Day\, Lindenhurst 💘 Join us tonight for a romantic dinner as The Roche Brothers set the mood from 6–9 PM. Then at 9 PM\, DJ Frankie C takes over and turns Valentine’s Day into a full-blown celebration! And remember… the best love stories start at Belfast. 🍷🎶
URL:https://ilovebabylon.com/event/live-music-with-the-roche-brothers-valentines-day/
LOCATION:101 North Wellwood Avenue\, Lindenhurst\, NY\, United States\, New York 11757\, 101 North Wellwood Avenue\, Lindenhurst\, NY\, United States\, New York 11757
END:VEVENT
BEGIN:VEVENT
DTSTART;TZID=America/New_York:20260214T120000
DTEND;TZID=America/New_York:20260214T150000
DTSTAMP:20260423T082717
CREATED:20260125T214314Z
LAST-MODIFIED:20260212T190151Z
UID:10007575-1771070400-1771081200@ilovebabylon.com
SUMMARY:Galentine's Boozy Bingo Brunch
DESCRIPTION:
URL:https://ilovebabylon.com/event/galentines-boozy-bingo-brunch/
LOCATION:345 Deer Park Ave\, Babylon\, NY\, United States\, New York 11702\, 345 Deer Park Ave\, Babylon\, NY\, United States\, New York 11702
END:VEVENT
BEGIN:VEVENT
DTSTART;TZID=America/New_York:20260213T210000
DTEND;TZID=America/New_York:20260214T020000
DTSTAMP:20260423T082717
CREATED:20260212T190132Z
LAST-MODIFIED:20260212T190132Z
UID:10007664-1771016400-1771034400@ilovebabylon.com
SUMMARY:Music with DJ Deano
DESCRIPTION:Performing live at Belfast this evening: The incredible one-man-band Joe Pianos from 6-9!  \nFollowing his show\, DJ Deano takes the stage at 9PM and isn’t stopping til 2AM!  \nThere’s no better place to be than Belfast this Valentine’s Weekend.
URL:https://ilovebabylon.com/event/music-with-dj-deano/
LOCATION:101 North Wellwood Avenue\, Lindenhurst\, NY\, United States\, New York 11757\, 101 North Wellwood Avenue\, Lindenhurst\, NY\, United States\, New York 11757
END:VEVENT
BEGIN:VEVENT
DTSTART;TZID=America/New_York:20260213T190000
DTEND;TZID=America/New_York:20260213T220000
DTSTAMP:20260423T082717
CREATED:20260125T214312Z
LAST-MODIFIED:20260212T190110Z
UID:10007574-1771009200-1771020000@ilovebabylon.com
SUMMARY:The Band EASY STREET at Goccia D'oro II
DESCRIPTION:Save the Date! February 13thGreat Food and Drink and The Band EASY STREETat Goccia D’oro II in Lindenhurst. Join the Fun
URL:https://ilovebabylon.com/event/the-band-easy-street-at-goccia-doro-ii/
LOCATION:Goccia D’oro II\, 485 West Montauk Highway\, Lindenhurst\, NY\, 11757\, US
END:VEVENT
BEGIN:VEVENT
DTSTART;TZID=America/New_York:20260213T190000
DTEND;TZID=America/New_York:20260213T220000
DTSTAMP:20260423T082717
CREATED:20260212T190113Z
LAST-MODIFIED:20260212T190113Z
UID:10007659-1771009200-1771020000@ilovebabylon.com
SUMMARY:Byrne Unit at The Nutty Irishman
DESCRIPTION:Join The Nutty Irishman on Friday\, February 13th at 7:00 PM for Byrne Unit. $10 Cover at the Door.
URL:https://ilovebabylon.com/event/byrne-unit-at-the-nutty-irishman/
LOCATION:323 Main St\, Farmingdale\, NY\, United States\, New York 11735\, 323 Main St\, Farmingdale\, NY\, United States\, New York 11735
END:VEVENT
BEGIN:VEVENT
DTSTART;TZID=America/New_York:20260213T180000
DTEND;TZID=America/New_York:20260213T220000
DTSTAMP:20260423T082717
CREATED:20260125T214259Z
LAST-MODIFIED:20260212T190047Z
UID:10007570-1771005600-1771020000@ilovebabylon.com
SUMMARY:Galentine’s Singo 🩷 🎤  🎶
DESCRIPTION:Christ Episcopal ChurchBabylon\, NYCome join us for a Fantastically Fun Night of SINGO!Live DJ\, delicious food\, great prizes\, generous raffle baskets\, and tons of fun!Friday\, February 13th – doors open at 6pm
URL:https://ilovebabylon.com/event/galentines-singo-%f0%9f%a9%b7-%f0%9f%8e%a4-%f0%9f%8e%b6/
LOCATION:12 Prospect St\, Babylon\, NY\, United States\, New York 11702\, 12 Prospect St\, Babylon\, NY\, United States\, New York 11702
END:VEVENT
BEGIN:VEVENT
DTSTART;TZID=America/New_York:20260213T180000
DTEND;TZID=America/New_York:20260213T210000
DTSTAMP:20260423T082717
CREATED:20260212T190100Z
LAST-MODIFIED:20260212T190100Z
UID:10007658-1771005600-1771016400@ilovebabylon.com
SUMMARY:Live Music with Joe Pianos
DESCRIPTION:Performing live at Belfast this evening: The incredible one-man-band Joe Pianos from 6-9!  \nFollowing his show\, DJ Deano takes the stage at 9PM and isn’t stopping til 2AM!  \nThere’s no better place to be than Belfast this Valentine’s Weekend.
URL:https://ilovebabylon.com/event/live-music-with-joe-pianos-3/
LOCATION:101 North Wellwood Avenue\, Lindenhurst\, NY\, United States\, New York 11757\, 101 North Wellwood Avenue\, Lindenhurst\, NY\, United States\, New York 11757
END:VEVENT
BEGIN:VEVENT
DTSTART;TZID=America/New_York:20260209T183000
DTEND;TZID=America/New_York:20260209T213000
DTSTAMP:20260423T082717
CREATED:20260125T214231Z
LAST-MODIFIED:20260204T180233Z
UID:10007562-1770661800-1770672600@ilovebabylon.com
SUMMARY:Gentlemen's Dinner
DESCRIPTION:
URL:https://ilovebabylon.com/event/gentlemens-dinner/
LOCATION:345 Deer Park Ave\, Babylon\, NY\, United States\, New York 11702\, 345 Deer Park Ave\, Babylon\, NY\, United States\, New York 11702
END:VEVENT
BEGIN:VEVENT
DTSTART;TZID=America/New_York:20260208T120000
DTEND;TZID=America/New_York:20260208T150000
DTSTAMP:20260423T082717
CREATED:20260125T214211Z
LAST-MODIFIED:20260204T180200Z
UID:10007555-1770552000-1770562800@ilovebabylon.com
SUMMARY:Bad Bunny Superbowl Brunch
DESCRIPTION:🍽️ $50 Buffet + Bottomless Brunch Cocktails🎶 DJ spinning reggaeton & Latin hits🐰 Bad Bunny–inspired brunch vibes📍 Lily’s | Babylon\, NY🗓️ Sunday 12–3PM
URL:https://ilovebabylon.com/event/bad-bunny-superbowl-brunch/
LOCATION:345 Deer Park Ave\, Babylon\, NY\, United States\, New York 11702\, 345 Deer Park Ave\, Babylon\, NY\, United States\, New York 11702
END:VEVENT
BEGIN:VEVENT
DTSTART;TZID=America/New_York:20260207T190000
DTEND;TZID=America/New_York:20260207T220000
DTSTAMP:20260423T082717
CREATED:20260204T180113Z
LAST-MODIFIED:20260204T180113Z
UID:10007633-1770490800-1770501600@ilovebabylon.com
SUMMARY:Half Step at The Nutty Irishman
DESCRIPTION:Join The Nutty Irishman on Saturday\, February 7th at 7:00 PM for Half Step. $10 Cover at the Door.
URL:https://ilovebabylon.com/event/half-step-at-the-nutty-irishman/
LOCATION:323 Main St\, Farmingdale\, NY\, United States\, New York 11735\, 323 Main St\, Farmingdale\, NY\, United States\, New York 11735
END:VEVENT
BEGIN:VEVENT
DTSTART;TZID=America/New_York:20260207T150000
DTEND;TZID=America/New_York:20260207T180000
DTSTAMP:20260423T082717
CREATED:20260125T214046Z
LAST-MODIFIED:20260204T180046Z
UID:10007542-1770476400-1770487200@ilovebabylon.com
SUMMARY:Babylon Breast Cancer Coaliation presents "SUPER SATURDAY!
DESCRIPTION:$25 donation includes: One Free Drink and One Free Raffle Ticket \nRegular Menu Available for PurchaseGreat Raffle Baskets\, Lots of Laughs and More! \n@RK_MUSIC_KREUDER \nPurchase your tickets in advance or at the door! \nBabylon Breast Cancer Coalition – 631-893-4110218 N. Wellwood Ave.\, Suite #2Lindenhurst\, NY 11757www.BabylonBreastCancer.org \nMoney Raised in Our Community Stays in Our Community!
URL:https://ilovebabylon.com/event/babylon-breast-cancer-coaliation-presents-super-saturday/
LOCATION:Mary Carroll’s Irish Pub\, Mary Carroll's Irish Pub
END:VEVENT
END:VCALENDAR