BEGIN:VCALENDAR
VERSION:2.0
PRODID:-//I Love Babylon, NY - ECPv6.15.20//NONSGML v1.0//EN
CALSCALE:GREGORIAN
METHOD:PUBLISH
X-WR-CALNAME:I Love Babylon, NY
X-ORIGINAL-URL:https://ilovebabylon.com
X-WR-CALDESC:Events for I Love Babylon, NY
REFRESH-INTERVAL;VALUE=DURATION:PT1H
X-Robots-Tag:noindex
X-PUBLISHED-TTL:PT1H
BEGIN:VTIMEZONE
TZID:America/New_York
BEGIN:DAYLIGHT
TZOFFSETFROM:-0500
TZOFFSETTO:-0400
TZNAME:EDT
DTSTART:20240310T070000
END:DAYLIGHT
BEGIN:STANDARD
TZOFFSETFROM:-0400
TZOFFSETTO:-0500
TZNAME:EST
DTSTART:20241103T060000
END:STANDARD
BEGIN:DAYLIGHT
TZOFFSETFROM:-0500
TZOFFSETTO:-0400
TZNAME:EDT
DTSTART:20250309T070000
END:DAYLIGHT
BEGIN:STANDARD
TZOFFSETFROM:-0400
TZOFFSETTO:-0500
TZNAME:EST
DTSTART:20251102T060000
END:STANDARD
BEGIN:DAYLIGHT
TZOFFSETFROM:-0500
TZOFFSETTO:-0400
TZNAME:EDT
DTSTART:20260308T070000
END:DAYLIGHT
BEGIN:STANDARD
TZOFFSETFROM:-0400
TZOFFSETTO:-0500
TZNAME:EST
DTSTART:20261101T060000
END:STANDARD
BEGIN:DAYLIGHT
TZOFFSETFROM:-0500
TZOFFSETTO:-0400
TZNAME:EDT
DTSTART:20270314T070000
END:DAYLIGHT
BEGIN:STANDARD
TZOFFSETFROM:-0400
TZOFFSETTO:-0500
TZNAME:EST
DTSTART:20271107T060000
END:STANDARD
END:VTIMEZONE
BEGIN:VEVENT
DTSTART;TZID=America/New_York:20260206T200000
DTEND;TZID=America/New_York:20260206T230000
DTSTAMP:20260423T113337
CREATED:20260204T180025Z
LAST-MODIFIED:20260204T180025Z
UID:10007628-1770408000-1770418800@ilovebabylon.com
SUMMARY:LI Rewind Live at The Nutty Irishman
DESCRIPTION:Join The Nutty Irishman on Friday\, February 6th at 8:00 PM for LI Rewind. $10 Cover at the Door.
URL:https://ilovebabylon.com/event/li-rewind-live-at-the-nutty-irishman/
LOCATION:323 Main St\, Farmingdale\, NY\, United States\, New York 11735\, 323 Main St\, Farmingdale\, NY\, United States\, New York 11735
END:VEVENT
BEGIN:VEVENT
DTSTART;TZID=America/New_York:20260201T143000
DTEND;TZID=America/New_York:20260201T163000
DTSTAMP:20260423T113337
CREATED:20260125T213957Z
LAST-MODIFIED:20260130T191123Z
UID:10007523-1769956200-1769963400@ilovebabylon.com
SUMMARY:The Babylon Blaze: Hot ones challenge
DESCRIPTION:Hot Ones: The Babylon Blaze at Lily’s Babylon—survive the hottest wings and compete to eat the most. Prizes for top finishers. Feb 1\, 2:30pm \nJoin us for our First Annual Hot Ones Wing Challenge📅 February 1st | ⏰ 2:30 PM | 📍 Lily’s \nRound 1:Who can handle the spiciest wing? It is going to be HOT. Endure the inferno as contestants face off—the last standing advance to Round 2. \nRound 2:Who can eat the most wings in a limited amount of time? \n🔥 Prizes awarded to the top 3 contestants! 🔥 \nDisclaimer & Assumption of Risk:Participation in this event is voluntary. Please be aware that consuming extremely spicy food may cause discomfort\, illness\, allergic reactions\, or other adverse health effects. By choosing to participate\, individuals acknowledge and accept all risks\, both known and unknown\, associated with consumption. Participants agree to release\, indemnify\, and hold harmless the restaurant\, its owners\, operators\, employees\, agents\, and affiliates from any claims\, liabilities\, or damages arising from participation. A signed waiver is required on the day of the event.
URL:https://ilovebabylon.com/event/the-babylon-blaze-hot-ones-challenge/
LOCATION:345 Deer Park Ave\, Babylon\, NY\, United States\, New York 11702\, 345 Deer Park Ave\, Babylon\, NY\, United States\, New York 11702
END:VEVENT
BEGIN:VEVENT
DTSTART;TZID=America/New_York:20260119T120000
DTEND;TZID=America/New_York:20260119T160000
DTSTAMP:20260423T113337
CREATED:20260115T184538Z
LAST-MODIFIED:20260115T184538Z
UID:10007467-1768824000-1768838400@ilovebabylon.com
SUMMARY:Paint\, Slime Time and Make Bracelets - WALK-INS with no reservations required.
DESCRIPTION:Paint\, slime time and bracelet making at Creative Touch MONDAY\, Jan 19th from 12pm-4pm for walk-ins with no reservations required.Spacious Long Island art studio with plenty of free parking 631-601-6681 http://CreativeTouchLI.com76 E Sunrise Highway Lindenhurst
URL:https://ilovebabylon.com/event/paint-slime-time-and-make-bracelets-walk-ins-with-no-reservations-required-3/
LOCATION:76 E Sunrise\, Lindenhurst\, NY\, United States\, New York 11757\, 76 E Sunrise\, Lindenhurst\, NY\, United States\, New York 11757
END:VEVENT
BEGIN:VEVENT
DTSTART;TZID=America/New_York:20260117T120000
DTEND;TZID=America/New_York:20260117T150000
DTSTAMP:20260423T113337
CREATED:20260109T081205Z
LAST-MODIFIED:20260115T184433Z
UID:10007452-1768651200-1768662000@ilovebabylon.com
SUMMARY:Boozy Bingo Brunch
DESCRIPTION:Enjoy bottomless brunch cocktails\, 2 games of music bingo\, brunch buffet\, prizes\, and more.
URL:https://ilovebabylon.com/event/boozy-bingo-brunch-3/
LOCATION:345 Deer Park Ave\, Babylon\, NY\, United States\, New York 11702\, 345 Deer Park Ave\, Babylon\, NY\, United States\, New York 11702
END:VEVENT
BEGIN:VEVENT
DTSTART;TZID=America/New_York:20260115T170000
DTEND;TZID=America/New_York:20260115T200000
DTSTAMP:20260423T113337
CREATED:20251231T103202Z
LAST-MODIFIED:20260115T184321Z
UID:10007354-1768496400-1768507200@ilovebabylon.com
SUMMARY:Wonder Grand Opening\, Deer Park
DESCRIPTION:Join us at Wonder Deer Park Grand Opening Celebration on Thursday\, January 15th\, at 5 pm \nJoin the fun:✂️4:30 PM: We’ll kick things off with a ribbon-cutting ceremony.✨5 PM: First 100 guests will receive an exclusive Wonder gift!
URL:https://ilovebabylon.com/event/wonder-grand-opening-deer-park/
LOCATION:1605 Deer Park Ave\, Deer Park\, NY 11729\, 1605 Deer Park Ave\, Deer Park\, NY 11729
END:VEVENT
BEGIN:VEVENT
DTSTART;TZID=America/New_York:20260110T153000
DTEND;TZID=America/New_York:20260110T190000
DTSTAMP:20260423T113337
CREATED:20260109T075426Z
LAST-MODIFIED:20260109T080929Z
UID:10007427-1768059000-1768071600@ilovebabylon.com
SUMMARY:Paint\, Slime Time and Make Bracelets - WALK-INS with no reservations required.
DESCRIPTION:Paint\, slime time and bracelet making at Creative Touch SATURDAY\, January 10th from 3:30pm-7pm for walk-ins with no reservations required.Spacious Long Island art studio with plenty of free parking 631-601-6681 http://CreativeTouchLI.com76 E Sunrise Highway Lindenhurst
URL:https://ilovebabylon.com/event/paint-slime-time-and-make-bracelets-walk-ins-with-no-reservations-required-2/
LOCATION:76 E Sunrise\, Lindenhurst\, NY\, United States\, New York 11757\, 76 E Sunrise\, Lindenhurst\, NY\, United States\, New York 11757
END:VEVENT
BEGIN:VEVENT
DTSTART;TZID=America/New_York:20260102T120000
DTEND;TZID=America/New_York:20260102T160000
DTSTAMP:20260423T113337
CREATED:20251231T102827Z
LAST-MODIFIED:20251231T102827Z
UID:10007301-1767355200-1767369600@ilovebabylon.com
SUMMARY:Paint\, Slime Time and Make Bracelets - WALK-INS with no reservations required.
DESCRIPTION:Paint\, slime time and bracelet making at Creative Touch FRIDAY\, January 2nd from 12pm-4pm for walk-ins with no reservations required.Spacious Long Island art studio with plenty of free parking 631-601-6681 http://CreativeTouchLI.com76 E Sunrise Highway Lindenhurst
URL:https://ilovebabylon.com/event/paint-slime-time-and-make-bracelets-walk-ins-with-no-reservations-required/
LOCATION:76 E Sunrise\, Lindenhurst\, NY\, United States\, New York 11757\, 76 E Sunrise\, Lindenhurst\, NY\, United States\, New York 11757
END:VEVENT
BEGIN:VEVENT
DTSTART;TZID=America/New_York:20260101T150000
DTEND;TZID=America/New_York:20260101T180000
DTSTAMP:20260423T113337
CREATED:20251231T102825Z
LAST-MODIFIED:20251231T102825Z
UID:10007300-1767279600-1767290400@ilovebabylon.com
SUMMARY:New Year's Day Hangover Bingo!
DESCRIPTION:Ease into the New Year the right way. 🍾 \nJoin us for Hangover Bingo at Belfast on Thursday January 1 — where the prizes are real\, the drinks are flowing\, and the pressure is low.  \nCome play\, hang out\, and recover together! \n🗓 January 1st | 3PM
URL:https://ilovebabylon.com/event/new-years-day-hangover-bingo/
LOCATION:101 North Wellwood Avenue\, Lindenhurst\, NY\, United States\, New York 11757\, 101 North Wellwood Avenue\, Lindenhurst\, NY\, United States\, New York 11757
END:VEVENT
BEGIN:VEVENT
DTSTART;TZID=America/New_York:20251231T210000
DTEND;TZID=America/New_York:20260101T020000
DTSTAMP:20260423T113337
CREATED:20251231T102814Z
LAST-MODIFIED:20251231T102814Z
UID:10007295-1767214800-1767232800@ilovebabylon.com
SUMMARY:New Year's Eve at Belfast!
DESCRIPTION:🥳 The countdown is on! New Year’s Eve at Belfast is going to be one for the record books.  \nJoin us on Wednesday December 31 starting at 9 PM\, with NO COVER\, a live DJ\, drink specials all night long\, and a champagne toast at midnight to welcome in the big 26. 🍾 \nGrab your friends\, pick your spot\, and get ready to dance\, cheer\, and celebrate the night away!
URL:https://ilovebabylon.com/event/new-years-eve-at-belfast/
LOCATION:101 North Wellwood Avenue\, Lindenhurst\, NY\, United States\, New York 11757\, 101 North Wellwood Avenue\, Lindenhurst\, NY\, United States\, New York 11757
END:VEVENT
BEGIN:VEVENT
DTSTART;TZID=America/New_York:20251231T170000
DTEND;TZID=America/New_York:20251231T210000
DTSTAMP:20260423T113337
CREATED:20251231T102807Z
LAST-MODIFIED:20251231T102807Z
UID:10007293-1767200400-1767214800@ilovebabylon.com
SUMMARY:New Year's Eve Dinner at Belfast
DESCRIPTION:New Year’s Eve at Belfast Gastropub starts with dinner! \nJoin us before the party crowd for a relaxed\, festive meal with two dinner seatings at 5PM and 7PM. \nThe NYE party kicks off at 9PM\, but dinner reservations are limited! \n📞 Call (631) 237-7021 to reserve.
URL:https://ilovebabylon.com/event/new-years-eve-dinner-at-belfast/
LOCATION:101 North Wellwood Avenue\, Lindenhurst\, NY\, United States\, New York 11757\, 101 North Wellwood Avenue\, Lindenhurst\, NY\, United States\, New York 11757
END:VEVENT
BEGIN:VEVENT
DTSTART;TZID=America/New_York:20251231T170000
DTEND;TZID=America/New_York:20251231T200000
DTSTAMP:20260423T113338
CREATED:20251231T102805Z
LAST-MODIFIED:20251231T102805Z
UID:10007292-1767200400-1767211200@ilovebabylon.com
SUMMARY:Snowy Farewell Karaoke Night ❄️🎶 Last Night Before Winter Break
DESCRIPTION:Join us for a cozy and fun Snowy Farewell Karaoke Night at VERN Restaurant & Bar as we sing\, eat\, and celebrate together one last time before our winter break. \n🎤 Karaoke: 5:00 PM – 8:00 PM🕑 Open: 2:00 PM – 9:00 PM🍹 All-Day Happy Hour \nEnjoy special food & drink deals\, warm winter vibes\, and a relaxed waterfront atmosphere.🎶 Free shot for the first 3 singers! \nThis is our final night before closing for the season — come sing\, laugh\, and say goodbye with us ❄️💛 \n📍 VERN Restaurant & Bar301 Bergen Ave\, West Babylon\, NY 11704 \n🗓️ We reopen Wednesday\, March 25
URL:https://ilovebabylon.com/event/snowy-farewell-karaoke-night-%e2%9d%84%ef%b8%8f%f0%9f%8e%b6-last-night-before-winter-break/
LOCATION:301 Bergen Ave\, West Babylon\, Nueva York\, Estados Unidos\, 301 Bergen Ave\, West Babylon\, Nueva York\, Estados Unidos
END:VEVENT
BEGIN:VEVENT
DTSTART;TZID=America/New_York:20251220T220000
DTEND;TZID=America/New_York:20251221T010000
DTSTAMP:20260423T113338
CREATED:20251129T172007Z
LAST-MODIFIED:20251129T172007Z
UID:10007172-1766268000-1766278800@ilovebabylon.com
SUMMARY:Misty Mountain Returns to The Warehouse!
DESCRIPTION:Misty Mountain returns to The Warehouse to perform Led Zeppelin’s greatest tunes. Not to be missed!
URL:https://ilovebabylon.com/event/misty-mountain-returns-to-the-warehouse/
LOCATION:The Warehouse Live Music & Events\, The Warehouse Live Music & Events
CATEGORIES:Live Music
END:VEVENT
BEGIN:VEVENT
DTSTART;TZID=America/New_York:20251220T100000
DTEND;TZID=America/New_York:20251220T130000
DTSTAMP:20260423T113338
CREATED:20251129T182754Z
LAST-MODIFIED:20251129T182754Z
UID:10007164-1766224800-1766235600@ilovebabylon.com
SUMMARY:Christmas Boozy Bingo Brunch
DESCRIPTION:It’s the most boozy time of the year! 🎅🍾 Join us for Christmas Boozy Bingo Brunch at Lily’s — with two seatings at 10AM & 1:30PM! Brunch buffet\, cocktails\, prizes and bingo fun await! 🎄✨ Reservations Required.
URL:https://ilovebabylon.com/event/christmas-boozy-bingo-brunch-2/
LOCATION:345 Deer Park Ave\, Babylon\, NY\, United States\, New York 11702\, 345 Deer Park Ave\, Babylon\, NY\, United States\, New York 11702
CATEGORIES:Christmas,Food & Drink,Holiday
END:VEVENT
BEGIN:VEVENT
DTSTART;TZID=America/New_York:20251220T090000
DTEND;TZID=America/New_York:20251220T110000
DTSTAMP:20260423T113338
CREATED:20251129T124446Z
LAST-MODIFIED:20251129T124446Z
UID:10007162-1766221200-1766228400@ilovebabylon.com
SUMMARY:Holiday Breakfast & Vendor Fair
DESCRIPTION:SATURDAY\, DECEMBER 20th\, 20259:00AM – 11:00AMYOUTH CENTER\, 213 PHELPS LANE\, NORTH BABYLON$15.00 PER ADULT\, $10.00 PER CHILD AGES 4-12\, CHILDREN 3 & UNDER FREE \nEVERYONE MUST BRING NON-PERISHABLE FOOD ITEMSWHICH WILL BE DONATED TO THE LOCAL FOOD PANTRY \nHOT BUFFET BREAKFAST SERVED TILL 10:30AM INCLUDES EGGS\, SAUSAGES\,FRENCH TOAST\, HASH BROWNS\, BAGELS\, MUFFINS\, DESSERTS & MUCH MORE! \nCHRISTMAS CAROL SING-A-LONG BEGINS AT 10:00AM(Kids in Grades K-5 can sign up to sing\, information listed under our Fall Workshops Registration Form) \nLOTS OF ACTIVITIES FOR THE KIDS INCLUDING CRAFT MAKING & TATTOO ART \nFAMILY PHOTOS WITH SANTA CLAUS \nVENDORS WILL BE HERE SELLING HOLIDAY ITEMS FOR SOME LAST-MINUTE SHOPPING!! \nLIMITED SPACE SO REGISTER NO LATER THAN DECEMBER 12th! PLEASE REGISTER ONLINE ATWWW.NORTHBABYLONCYS.COM.  \nFOR MORE INFORMATION\, CONTACT (631) 422-0333.
URL:https://ilovebabylon.com/event/holiday-breakfast-vendor-fair/
LOCATION:213 Phelps Ln\, North Babylon\, NY\, United States\, New York 11703\, 213 Phelps Ln\, North Babylon\, NY\, United States\, New York 11703
CATEGORIES:Fairs and Festivals,Holiday
END:VEVENT
BEGIN:VEVENT
DTSTART;TZID=America/New_York:20251215T183000
DTEND;TZID=America/New_York:20251215T213000
DTSTAMP:20260423T113338
CREATED:20251212T093349Z
LAST-MODIFIED:20251212T093349Z
UID:10007148-1765823400-1765834200@ilovebabylon.com
SUMMARY:Christmas Movie Trvia
DESCRIPTION:The ultimate holiday trivia night is HERE! 🎄🤩 Test your Christmas movie knowledge at Lily’s!
URL:https://ilovebabylon.com/event/christmas-movie-trvia/
LOCATION:345 Deer Park Ave\, Babylon\, NY\, United States\, New York 11702\, 345 Deer Park Ave\, Babylon\, NY\, United States\, New York 11702
CATEGORIES:Christmas,Gaming & Hobbies,Holiday
END:VEVENT
BEGIN:VEVENT
DTSTART;TZID=America/New_York:20251214T140000
DTEND;TZID=America/New_York:20251214T170000
DTSTAMP:20260423T113338
CREATED:20251212T094448Z
LAST-MODIFIED:20251212T094448Z
UID:10007284-1765720800-1765731600@ilovebabylon.com
SUMMARY:Christmas Party with SANTA 2025
DESCRIPTION:🎅 Reserve your spots by December 1st and each child will receive a plaster Christmas ornament painting kit from Santa!! \nEnjoy a FUN filled Christmas event at Creative Touch. Friday 12/12 from 5pm-8pm\, Saturday 12/13 from 10:30am-1:30pm and Sunday 12/14 from 2pm-5pm This event will include: Plaster piece of their choice to paint | Photo Stations | Food / Drinks | Snacks Party Games with Prizes | Dancing | Christmas Tattoos | Christmas Tunes Storytelling and family photos with Santa | Personalized Letter from Santa \n$30 per child (ages 2-12) Registration is required prior to event @ creativetouchli@yahoo.com 631-601-6681 or private message on Facebook. \nSpacious studio with plenty of free parking!! \n631-601-6681 \nIG – creativetouchli \nhttp://CreativeTouchLI.com
URL:https://ilovebabylon.com/event/christmas-party-with-santa-2025-2/
LOCATION:Creative Touch
CATEGORIES:Christmas,Holiday,Party
END:VEVENT
BEGIN:VEVENT
DTSTART;TZID=America/New_York:20251214T100000
DTEND;TZID=America/New_York:20251214T130000
DTSTAMP:20260423T113338
CREATED:20251212T093352Z
LAST-MODIFIED:20251212T093352Z
UID:10007142-1765706400-1765717200@ilovebabylon.com
SUMMARY:Breakfast With Santa
DESCRIPTION:Don’t miss Breakfast with Santa at Lily’s—December 14th\, 10am🎄🎅 Brunch buffet\, drinks\, and photos with Santa. Reservations required!
URL:https://ilovebabylon.com/event/breakfast-with-santa-4/
LOCATION:345 Deer Park Ave\, Babylon\, NY\, United States\, New York 11702\, 345 Deer Park Ave\, Babylon\, NY\, United States\, New York 11702
CATEGORIES:Christmas,Food & Drink,Holiday,Live Appearances
END:VEVENT
BEGIN:VEVENT
DTSTART;TZID=America/New_York:20251213T180000
DTEND;TZID=America/New_York:20251213T230000
DTSTAMP:20260423T113338
CREATED:20251212T093358Z
LAST-MODIFIED:20260302T135812Z
UID:10007133-1765648800-1765666800@ilovebabylon.com
SUMMARY:Annual Raffle Auction Fundraiser
DESCRIPTION:SATURDAY\, DECEMBER 13TH\, 2025AT ANTHONY J. TATTI YOUTH CENTER213 PHELPS LANE\, NORTH BABYLON (IN PHELPS LANE PARK)DOORS OPEN AT 6:00PM – CALLING STARTS AT 8:00PM$20.00 ADMISSION INCLUDES 25 TICKETS \nMAKE A DONATION OF AT LEAST 3 NON-PERISHABLE FOOD ITEMS FOR THE FOOD PANTRY AND RECEIVE A FREE SHEET OF TICKETS!! \n****ADMISSION TICKETS WILL BE AVAILABLE FOR PURCHASE ONLINE ONLY AT WWW.NORTHBABYLONCYS.COM BEGINNING MONDAY\, NOVEMBER 3RD.  \nONLY 200 TICKETS WILL BE SOLD! SEATING WILL BE ASSIGNED PRIOR TO THE EVENT\, SO IF YOU ARE COMING WITH OTHER PEOPLE\, PLEASE NOTATE IT ON THE REGISTRATION. **** \nMORE THAN 250 PRIZES INCLUDING OVER 100 GIFT CARDS\, 75” TV\, TONS OF BASKETS\, LOTTO BOARD\, $500 CASH PRIZE\, MYSTERY BAGS AND SO MUCH MORE!!LOWER TIER PRIZES – 1 SHEET (25 TICKETS) $3.00 OR 2/$5MIDDLE TIER PRIZES – 6 TICKETS FOR $5.00 OR 15 TICKETS FOR $10.00HIGH END PRIZES – 1 TICKET FOR $5.00 OR 3 TICKETS FOR $10.00GRAND PRIZES – 1 TICKET FOR $10.00 OR 3 TICKETS FOR $20.00 \nADDITIONAL TICKETS\, VALUE PACKS\, SNACKS AND DRINKS WILL BE AVAILABLE.GUESTS ARE WELCOME TO BRING THEIR OWN FOOD AND DRINK. FOR MORE INFO\, CONTACT 631-422-0333 or dcannonnbtc@outlook.com
URL:https://ilovebabylon.com/event/annual-raffle-auction-fundraiser/
LOCATION:213 Phelps Ln\, North Babylon\, NY\, United States\, New York 11703\, 213 Phelps Ln\, North Babylon\, NY\, United States\, New York 11703
CATEGORIES:Bingo,Community,Fundraiser,Gaming & Hobbies
END:VEVENT
BEGIN:VEVENT
DTSTART;TZID=America/New_York:20251213T150000
DTEND;TZID=America/New_York:20251213T190000
DTSTAMP:20260423T113338
CREATED:20251215T002228Z
LAST-MODIFIED:20251215T002228Z
UID:10007275-1765638000-1765652400@ilovebabylon.com
SUMMARY:Seabreeze Christmas Party
DESCRIPTION:This Saturday December 13th Running Loose playing 3pm- 7pm .Tracy and Kristinebehind the bar .
URL:https://ilovebabylon.com/event/seabreeze-christmas-party/
LOCATION:Online Event\, West Babylon\, NY\, US
CATEGORIES:Christmas,Holiday,Party
END:VEVENT
BEGIN:VEVENT
DTSTART;TZID=America/New_York:20251213T103000
DTEND;TZID=America/New_York:20251213T133000
DTSTAMP:20260423T113338
CREATED:20251212T094444Z
LAST-MODIFIED:20251212T094444Z
UID:10007270-1765621800-1765632600@ilovebabylon.com
SUMMARY:Christmas Party with SANTA 2025
DESCRIPTION:🎅 Reserve your spots by December 1st and each child will receive a plaster Christmas ornament painting kit from Santa!! \nEnjoy a FUN filled Christmas event at Creative Touch. Friday 12/12 from 5pm-8pm\, Saturday 12/13 from 10:30am-1:30pm and Sunday 12/14 from 2pm-5pm This event will include: Plaster piece of their choice to paint | Photo Stations | Food / Drinks | Snacks Party Games with Prizes | Dancing | Christmas Tattoos | Christmas Tunes Storytelling and family photos with Santa | Personalized Letter from Santa \n$30 per child (ages 2-12) Registration is required prior to event @ creativetouchli@yahoo.com 631-601-6681 or private message on Facebook. \nSpacious studio with plenty of free parking!! \n631-601-6681 \nIG – creativetouchli \nhttp://CreativeTouchLI.com
URL:https://ilovebabylon.com/event/christmas-party-with-santa-2025/
LOCATION:Creative Touch
CATEGORIES:Christmas,Holiday,Party
END:VEVENT
BEGIN:VEVENT
DTSTART;TZID=America/New_York:20251213T090000
DTEND;TZID=America/New_York:20251213T120000
DTSTAMP:20260423T113338
CREATED:20251212T093354Z
LAST-MODIFIED:20260302T135819Z
UID:10007126-1765616400-1765627200@ilovebabylon.com
SUMMARY:American Airpower Museum Holiday Pancake Breakfast Fundraiser
DESCRIPTION:The American Airpower Museum invites you to the Annual Holiday Pancake Breakfast Fundraiser on Saturday\, December 13th\, 2025\, 9:00 a.m. until 12:00 p.m. Join us for a delicious Pancake Breakfast in our Historic Republic Aviation Hangar that will be decorated for the Holiday Season! Enjoy Hot Pancakes with Butter\, Maple Syrup\, Sausages with Hot Beverages including Coffee and Hot Chocolate along with Breakfast Juices. Kids of all ages will be able to meet and greet with Santa and his Elves and\, weather permitting\, take a Tram ride around our outdoor flight line displays on the historic Republic Airport Grounds. This year’s Breakfast is $20.00 for adults and normal $12.00 Admission for children (3-12)\, Admission includes Breakfast\, and Tram ride\, there are no additional costs! You will also enjoy the museum exclusively as it will not be open to the general public while you enjoy your Breakfast as only ticket holders will be admitted between 9am-12pm. \nThere are three seatings to choose from at 9:00am\, 10:00am\, and 11:00am\, and tickets (Reservations) are purchased here online\, or by phone. Please see our booking site\, for all ticketing\, and ticketing policies. You can also call (631) 293-6398 Wednesday through Sunday\, 10:30 a.m. to 4:00 p.m. with questions\, or to book by phone if necessary. Help us KEEP ‘EM FLYING and join us for our breakfast fundraiser which supports the Museum’s mission to help preserve American Civilian and Military Aviation History and honor all our Men and Women Aviation Pioneers as well as our Military Veterans!
URL:https://ilovebabylon.com/event/american-airpower-museum-holiday-pancake-breakfast-fundraiser/
LOCATION:1230 New Hwy- Hangar 3\, Farmingdale\, NY\, United States\, New York 11735\, 1230 New Hwy- Hangar 3\, Farmingdale\, NY\, United States\, New York 11735
CATEGORIES:Christmas,Community,Food & Drink,Fundraiser,Holiday,Live Appearances
END:VEVENT
BEGIN:VEVENT
DTSTART;TZID=America/New_York:20251212T170000
DTEND;TZID=America/New_York:20251212T200000
DTSTAMP:20260423T113338
CREATED:20251212T093341Z
LAST-MODIFIED:20251212T093341Z
UID:10007117-1765558800-1765569600@ilovebabylon.com
SUMMARY:Christmas Party with SANTA 2025
DESCRIPTION:🎅 Reserve your spots by December 1st and each child will receive a plaster Christmas ornament painting kit from Santa!! \nEnjoy a FUN filled Christmas event at Creative Touch. Friday 12/12 from 5pm-8pm\, Saturday 12/13 from 10:30am-1:30pm and Sunday 12/14 from 2pm-5pm This event will include: Plaster piece of their choice to paint | Photo Stations | Food / Drinks | Snacks Party Games with Prizes | Dancing | Christmas Tattoos | Christmas Tunes Storytelling and family photos with Santa | Personalized Letter from Santa \n$30 per child (ages 2-12) Registration is required prior to event @ creativetouchli@yahoo.com 631-601-6681 or private message on Facebook. \nSpacious studio with plenty of free parking!! \n631-601-6681 \nIG – creativetouchli \nhttp://CreativeTouchLI.com
URL:https://ilovebabylon.com/event/christmas-party-with-santa-2025-3/
LOCATION:Creative Touch
CATEGORIES:Christmas,Holiday,Live Appearances,Party
END:VEVENT
BEGIN:VEVENT
DTSTART;TZID=America/New_York:20251212T120000
DTEND;TZID=America/New_York:20251212T150000
DTSTAMP:20260423T113338
CREATED:20251215T002219Z
LAST-MODIFIED:20251215T002219Z
UID:10007255-1765540800-1765551600@ilovebabylon.com
SUMMARY:Annual Holiday Party
DESCRIPTION:Join us for our annual Holiday Party Friday December 12th! 🎁🎄
URL:https://ilovebabylon.com/event/annual-holiday-party/
LOCATION:Online Event\, West Babylon\, NY\, US
CATEGORIES:Party
END:VEVENT
BEGIN:VEVENT
DTSTART;TZID=America/New_York:20251208T190000
DTEND;TZID=America/New_York:20251208T220000
DTSTAMP:20260423T113338
CREATED:20251205T125958Z
LAST-MODIFIED:20260302T140211Z
UID:10007106-1765220400-1765231200@ilovebabylon.com
SUMMARY:Christmas Wreath Decorating Dinner
DESCRIPTION:Get festive and crafty with us! 🎄💫Our Wreath Decorating Event is happening December 8 at 7 PM. Enjoy a hands-on class\, delicious dinner buffet\, and unlimited wine & winter sangria. A perfect holiday night out! 🍷🌿
URL:https://ilovebabylon.com/event/christmas-wreath-decorating-dinner/
LOCATION:345 Deer Park Ave\, Babylon\, NY\, United States\, New York 11702\, 345 Deer Park Ave\, Babylon\, NY\, United States\, New York 11702
CATEGORIES:Arts and Crafts,Christmas,Food & Drink,Holiday
END:VEVENT
BEGIN:VEVENT
DTSTART;TZID=America/New_York:20251206T100000
DTEND;TZID=America/New_York:20251206T130000
DTSTAMP:20260423T113338
CREATED:20251205T125935Z
LAST-MODIFIED:20260302T140213Z
UID:10007073-1765015200-1765026000@ilovebabylon.com
SUMMARY:Holiday Brunch Bash
DESCRIPTION:🎄✨ Join us for the ultimate Holiday Brunch Bash! Bring the whole family for a magical morning filled with a breakfast buffet\, games\, crafts\, giveaways\, and meet-and-greets with Santa\, the Grinch\, Olaf\, Mickey & Minnie Claus! 🎅❄️📅 December 6 | 10 AMReservations required—call 631-539-0816!
URL:https://ilovebabylon.com/event/holiday-brunch-bash/
LOCATION:345 Deer Park Ave\, Babylon\, NY\, United States\, New York 11702\, 345 Deer Park Ave\, Babylon\, NY\, United States\, New York 11702
CATEGORIES:Arts and Crafts,Christmas,Food & Drink,Holiday,Live Appearances
END:VEVENT
BEGIN:VEVENT
DTSTART;TZID=America/New_York:20251201T183000
DTEND;TZID=America/New_York:20251201T213000
DTSTAMP:20260423T113338
CREATED:20251129T163451Z
LAST-MODIFIED:20251129T163451Z
UID:10007039-1764613800-1764624600@ilovebabylon.com
SUMMARY:Christmas Music Bingo
DESCRIPTION:🎄✨ Get ready to jingle all the way at Christmas Music Bingo! Join us at Lily’s on 12/1 at 6:30 PM for a holly-jolly night of music\, prizes\, and holiday cheer. Reservations required—grab your spot now! 🎶🎅$10 includes 2 bingo cards with fun BIG prizes.
URL:https://ilovebabylon.com/event/christmas-music-bingo/
LOCATION:345 Deer Park Ave\, Babylon\, NY\, United States\, New York 11702\, 345 Deer Park Ave\, Babylon\, NY\, United States\, New York 11702
CATEGORIES:Bingo,Christmas,Gaming & Hobbies,Holiday
END:VEVENT
BEGIN:VEVENT
DTSTART;TZID=America/New_York:20251129T120000
DTEND;TZID=America/New_York:20251129T150000
DTSTAMP:20260423T113338
CREATED:20251129T182525Z
LAST-MODIFIED:20251129T182749Z
UID:10007025-1764417600-1764428400@ilovebabylon.com
SUMMARY:Boozy Bingo Brunch
DESCRIPTION:🎉 Boozy Bingo Brunch is back at Lily’s! 🎉With 2 Bingo Cards\, prizes\, delicious Brunch Cocktails\, and access to our epic Brunch Buffet — all for just $50pp plus tax and gratuity! 🍾🍳🎱 Grab your crew and let the brunching (and winning) begin! 🥂✨
URL:https://ilovebabylon.com/event/boozy-bingo-brunch/
LOCATION:345 Deer Park Ave\, Babylon\, NY\, United States\, New York 11702\, 345 Deer Park Ave\, Babylon\, NY\, United States\, New York 11702
CATEGORIES:Bingo,Food & Drink,Gaming & Hobbies,Wine & Dining
END:VEVENT
BEGIN:VEVENT
DTSTART;TZID=America/New_York:20251031T183000
DTEND;TZID=America/New_York:20251031T213000
DTSTAMP:20260423T113338
CREATED:20251003T024945Z
LAST-MODIFIED:20251003T024945Z
UID:10006931-1761935400-1761946200@ilovebabylon.com
SUMMARY:Giotopia Events presents Grave Rave at The Warehouse!
DESCRIPTION:Giotopia Events presents Grave Rave at The Warehouse!New Wave Resurrected with Lovesong!Best Costume Contest! Giveaways! Complimentary Buffet!Get Ready For A Hauntingly Good Time! Tickets available at: www.thewarehouseli.com/calendarDoors 6:30PM
URL:https://ilovebabylon.com/event/giotopia-events-presents-grave-rave-at-the-warehouse/
LOCATION:The Warehouse Live Music Pub & Grub\, The Warehouse Live Music Pub & Grub
CATEGORIES:Concert,Live Music
END:VEVENT
BEGIN:VEVENT
DTSTART;TZID=America/New_York:20251031T180000
DTEND;TZID=America/New_York:20251031T220000
DTSTAMP:20260423T113338
CREATED:20251002T232148Z
LAST-MODIFIED:20251002T232148Z
UID:10006930-1761933600-1761948000@ilovebabylon.com
SUMMARY:Live Music by One Track Mind
DESCRIPTION:
URL:https://ilovebabylon.com/event/live-music-by-one-track-mind-3/
LOCATION:345 Deer Park Ave\, Babylon\, NY\, United States\, New York 11702\, 345 Deer Park Ave\, Babylon\, NY\, United States\, New York 11702
CATEGORIES:Concert,Food & Drink,Live Music
END:VEVENT
BEGIN:VEVENT
DTSTART;TZID=America/New_York:20251029T183000
DTEND;TZID=America/New_York:20251029T200000
DTSTAMP:20260423T113338
CREATED:20251003T023956Z
LAST-MODIFIED:20251003T023956Z
UID:10006926-1761762600-1761768000@ilovebabylon.com
SUMMARY:Halloween Glow-in-the-Dark Dance Party
DESCRIPTION:Bring your friends and family for a one-of-a-kind dance party featuring today’s biggest hits!  \nWear white so you GLOW in the blacklights \nAdults and children welcome  \n$2 per person and a donation of one non-perishable food item per person are required\, payable at the door.  \nAll food donations will be given to the Town of Babylon Food Pantry. \nREGISTER ONLINE AT WWW.NORTHBABYLONCYS.COM FOR MORE INFORMATION\, CALL (631) 422-0333. \nBlacklights Sponsored by iDJ Now
URL:https://ilovebabylon.com/event/halloween-glow-in-the-dark-dance-party/
LOCATION:213 Phelps Ln\, North Babylon\, NY\, United States\, New York 11703\, 213 Phelps Ln\, North Babylon\, NY\, United States\, New York 11703
CATEGORIES:Arts and Crafts,Food & Drink,Halloween,Kids
END:VEVENT
END:VCALENDAR