BEGIN:VCALENDAR
VERSION:2.0
PRODID:-//I Love Babylon, NY - ECPv6.15.20//NONSGML v1.0//EN
CALSCALE:GREGORIAN
METHOD:PUBLISH
X-WR-CALNAME:I Love Babylon, NY
X-ORIGINAL-URL:https://ilovebabylon.com
X-WR-CALDESC:Events for I Love Babylon, NY
REFRESH-INTERVAL;VALUE=DURATION:PT1H
X-Robots-Tag:noindex
X-PUBLISHED-TTL:PT1H
BEGIN:VTIMEZONE
TZID:America/New_York
BEGIN:DAYLIGHT
TZOFFSETFROM:-0500
TZOFFSETTO:-0400
TZNAME:EDT
DTSTART:20240310T070000
END:DAYLIGHT
BEGIN:STANDARD
TZOFFSETFROM:-0400
TZOFFSETTO:-0500
TZNAME:EST
DTSTART:20241103T060000
END:STANDARD
BEGIN:DAYLIGHT
TZOFFSETFROM:-0500
TZOFFSETTO:-0400
TZNAME:EDT
DTSTART:20250309T070000
END:DAYLIGHT
BEGIN:STANDARD
TZOFFSETFROM:-0400
TZOFFSETTO:-0500
TZNAME:EST
DTSTART:20251102T060000
END:STANDARD
BEGIN:DAYLIGHT
TZOFFSETFROM:-0500
TZOFFSETTO:-0400
TZNAME:EDT
DTSTART:20260308T070000
END:DAYLIGHT
BEGIN:STANDARD
TZOFFSETFROM:-0400
TZOFFSETTO:-0500
TZNAME:EST
DTSTART:20261101T060000
END:STANDARD
END:VTIMEZONE
BEGIN:VEVENT
DTSTART;TZID=America/New_York:20251026T143000
DTEND;TZID=America/New_York:20251026T170000
DTSTAMP:20260423T143048
CREATED:20251003T023949Z
LAST-MODIFIED:20251003T023949Z
UID:10006920-1761489000-1761498000@ilovebabylon.com
SUMMARY:GLOW Halloween Party for Kids with Costume Contest
DESCRIPTION:✨Join us for a Not-So-Spooky Halloween Glow Party at Creative Touch!! 2nd event – SUNDAY\, October 26th from 2:30pm-5pm ✨🎃👻Fashion Show Costume Contest with Prizes 🎃 Their Choice of Plaster Piece to Paint 🎃 Pizza / Drinks / Snacks 🎃Dancing and Kids Games with Prizes Glow Items 🎃 Spooky Photo Station – Halloween tunes and more 🎃 Halloween Tattoos 🎃 2.5 hour Party of FUN!!Seats are limited – registration is required. $35 per child. Ages 4-12Call 631-601-6681 or email us at creativetouchli@yahoo.comhttp://CreativeTouchLI.com Spacious Long Island Art studio with plenty of free parking \nHalloween event Halloween events Long Island Halloween party Suffolk Halloween parties Kid parties children parties trunk or treat events costume contests Suffolk county Halloween event art studio paint studio paint night
URL:https://ilovebabylon.com/event/glow-halloween-party-for-kids-with-costume-contest/
LOCATION:Creative Touch
CATEGORIES:Arts and Crafts,Food & Drink,Halloween,Kids
END:VEVENT
BEGIN:VEVENT
DTSTART;TZID=America/New_York:20251026T110000
DTEND;TZID=America/New_York:20251026T133000
DTSTAMP:20260423T143048
CREATED:20251003T023952Z
LAST-MODIFIED:20251003T023952Z
UID:10006915-1761476400-1761485400@ilovebabylon.com
SUMMARY:GLOW Halloween Party for Kids with Costume Contest
DESCRIPTION:✨Join us for a Not-So-Spooky Halloween Glow Party at Creative Touch!! SUNDAY\, October 26th from 11am-1:30pm ✨🎃👻Fashion Show Costume Contest with Prizes 🎃 Their Choice of Plaster Piece to Paint 🎃 Pizza / Drinks / Snacks 🎃Dancing and Kids Games with Prizes Glow Items 🎃 Spooky Photo Station – Halloween tunes and more 🎃 Halloween Tattoos 🎃 2.5 hour Party of FUN!!Seats are limited – registration is required. $35 per child. Ages 4-12Call 631-601-6681 or email us at creativetouchli@yahoo.comhttp://CreativeTouchLI.com Spacious Long Island Art studio with plenty of free parking \nHalloween event Halloween events Long Island Halloween party Suffolk Halloween parties Kid parties children parties trunk or treat events costume contests Suffolk county Halloween event art studio paint studio paint night
URL:https://ilovebabylon.com/event/glow-halloween-party-for-kids-with-costume-contest-2/
LOCATION:Online Event\, West Babylon\, NY\, US
CATEGORIES:Arts and Crafts,Food & Drink,Halloween,Kids
END:VEVENT
END:VCALENDAR