BEGIN:VCALENDAR
VERSION:2.0
PRODID:-//I Love Babylon, NY - ECPv6.15.20//NONSGML v1.0//EN
CALSCALE:GREGORIAN
METHOD:PUBLISH
X-ORIGINAL-URL:https://ilovebabylon.com
X-WR-CALDESC:Events for I Love Babylon, NY
REFRESH-INTERVAL;VALUE=DURATION:PT1H
X-Robots-Tag:noindex
X-PUBLISHED-TTL:PT1H
BEGIN:VTIMEZONE
TZID:America/New_York
BEGIN:DAYLIGHT
TZOFFSETFROM:-0500
TZOFFSETTO:-0400
TZNAME:EDT
DTSTART:20240310T070000
END:DAYLIGHT
BEGIN:STANDARD
TZOFFSETFROM:-0400
TZOFFSETTO:-0500
TZNAME:EST
DTSTART:20241103T060000
END:STANDARD
BEGIN:DAYLIGHT
TZOFFSETFROM:-0500
TZOFFSETTO:-0400
TZNAME:EDT
DTSTART:20250309T070000
END:DAYLIGHT
BEGIN:STANDARD
TZOFFSETFROM:-0400
TZOFFSETTO:-0500
TZNAME:EST
DTSTART:20251102T060000
END:STANDARD
BEGIN:DAYLIGHT
TZOFFSETFROM:-0500
TZOFFSETTO:-0400
TZNAME:EDT
DTSTART:20260308T070000
END:DAYLIGHT
BEGIN:STANDARD
TZOFFSETFROM:-0400
TZOFFSETTO:-0500
TZNAME:EST
DTSTART:20261101T060000
END:STANDARD
BEGIN:DAYLIGHT
TZOFFSETFROM:-0500
TZOFFSETTO:-0400
TZNAME:EDT
DTSTART:20270314T070000
END:DAYLIGHT
BEGIN:STANDARD
TZOFFSETFROM:-0400
TZOFFSETTO:-0500
TZNAME:EST
DTSTART:20271107T060000
END:STANDARD
END:VTIMEZONE
BEGIN:VEVENT
DTSTART;TZID=America/New_York:20260110T130000
DTEND;TZID=America/New_York:20260111T190000
DTSTAMP:20260422T061837
CREATED:20251231T103010Z
LAST-MODIFIED:20260109T080925Z
UID:10007341-1768050000-1768158000@ilovebabylon.com
SUMMARY:One Piece Card Game Release Event - OP14-EB04 The Azure Sea's Seven
DESCRIPTION:OP14-EB04 The Azure Sea’s Seven Release Event \nJanuary 10th & 11th 2026 \nEntry: $30.00 – Includes 6 Packs to build a Sealed Deck*Format – Sealed DeckCheckin – 3:00PMStart – 4:00PMPrizing – Promo Support\, OP-13 Purchasing Available*You Must Use The Rainbow Luffy for this event* \nFor More Information regarding this event\, please email us at Events@RipnShipArena.com  \n*This registration is for one player per paid entry. All entries will need a unique BandaiTCG+ account and ID. Players who do not attend the event or cancel their entry will have their entry transferred to Store Credit\, redeemable in store on physical product in stock.  \nParking- We kindly ask that all event attendees respect our neighboring businesses and please do not park in their private parking lots at the risk of having your vehicle towed. Our general parking is located in the rear of the building by utilizing the driveways before the building. In the event that there is no parking available\, we ask that you park in the municipal lot diagonally across the street from our store\, find parking on Deer Park Avenue\, or park in the residential areas or other public parking spaces.
URL:https://ilovebabylon.com/event/one-piece-card-game-release-event-op14-eb04-the-azure-seas-seven/
LOCATION:1883-B Deer Park Avenue\, Deer Park\, NY\, United States\, New York 11729\, 1883-B Deer Park Avenue\, Deer Park\, NY\, United States\, New York 11729
END:VEVENT
BEGIN:VEVENT
DTSTART;TZID=America/New_York:20260109T193000
DTEND;TZID=America/New_York:20260109T230000
DTSTAMP:20260422T061837
CREATED:20260104T143956Z
LAST-MODIFIED:20260104T143956Z
UID:10007415-1767987000-1767999600@ilovebabylon.com
SUMMARY:Riftbound Weekly Tournaments
DESCRIPTION:$10.00 Entry*7:00PM Signups7:30PM StartFull Store Credit Prize Pool \n*Weekly Events Postponed If/When there is a Magic The Gathering PreRelease Event* \nhttps://www.facebook.com/events/1319962622955706/?event_time_id=1319962642955704
URL:https://ilovebabylon.com/event/riftbound-weekly-tournaments-2/
LOCATION:1883-B Deer Park Avenue\, Deer Park\, NY\, United States\, New York 11729\, 1883-B Deer Park Avenue\, Deer Park\, NY\, United States\, New York 11729
END:VEVENT
BEGIN:VEVENT
DTSTART;TZID=America/New_York:20260108T193000
DTEND;TZID=America/New_York:20260108T223000
DTSTAMP:20260422T061837
CREATED:20260104T143938Z
LAST-MODIFIED:20260104T143938Z
UID:10007411-1767900600-1767911400@ilovebabylon.com
SUMMARY:Pokemon TCG League Tournament
DESCRIPTION:$10.00 EntryFull Store Credit Prize Pool1 Prize Pack per Player*7:30PM StartStandard Constructed FormatA Complete Play!Pokemon Player ID is required(Create an account on Pokemon.com and link your Player ID!)*While Supplies Last \nhttps://www.facebook.com/events/744793075233424/?event_time_id=744793135233418
URL:https://ilovebabylon.com/event/pokemon-tcg-league-tournament-4/
LOCATION:1883-B Deer Park Avenue\, Deer Park\, NY\, United States\, New York 11729\, 1883-B Deer Park Avenue\, Deer Park\, NY\, United States\, New York 11729
END:VEVENT
BEGIN:VEVENT
DTSTART;TZID=America/New_York:20260108T193000
DTEND;TZID=America/New_York:20260108T223000
DTSTAMP:20260422T061837
CREATED:20260104T143936Z
LAST-MODIFIED:20260104T143936Z
UID:10007410-1767900600-1767911400@ilovebabylon.com
SUMMARY:One Piece Card Game Local Tournament
DESCRIPTION:7:00PM Signups7:30PM Start$10.00 EntryFull Credit Prize PoolPromo to every player signed up!Join us every Monday & Thursday! \nhttps://www.facebook.com/events/1102033492086776/?event_time_id=1102033508753441
URL:https://ilovebabylon.com/event/one-piece-card-game-local-tournament-4/
LOCATION:1883-B Deer Park Avenue\, Deer Park\, NY\, United States\, New York 11729\, 1883-B Deer Park Avenue\, Deer Park\, NY\, United States\, New York 11729
END:VEVENT
BEGIN:VEVENT
DTSTART;TZID=America/New_York:20260107T193000
DTEND;TZID=America/New_York:20260107T230000
DTSTAMP:20260422T061837
CREATED:20260104T143912Z
LAST-MODIFIED:20260104T143912Z
UID:10007405-1767814200-1767826800@ilovebabylon.com
SUMMARY:Flesh and Blood - Blitz Tournament
DESCRIPTION:Entry: $10.00Signups – 7:00PMStart – 7:30PMBlitz FormatFull Store Credit Prize PoolPromo Cards while Supplies Last \nhttps://www.facebook.com/events/689471587099218/?event_time_id=689471637099213
URL:https://ilovebabylon.com/event/flesh-and-blood-blitz-tournament-2/
LOCATION:1883-B Deer Park Avenue\, Deer Park\, NY\, United States\, New York 11729\, 1883-B Deer Park Avenue\, Deer Park\, NY\, United States\, New York 11729
END:VEVENT
BEGIN:VEVENT
DTSTART;TZID=America/New_York:20260107T193000
DTEND;TZID=America/New_York:20260107T230000
DTSTAMP:20260422T061837
CREATED:20260104T143910Z
LAST-MODIFIED:20260104T143910Z
UID:10007404-1767814200-1767826800@ilovebabylon.com
SUMMARY:Magic The Gathering: Stamp Card League
DESCRIPTION:A new way to reward our returning players on Wednesday evenings!  \nCome down\, play Magic\, put the Companion Code in\, and with any $5 Magic purchase you’ll get a Stamp Card\, or +1 Stamp on the card!  \nRedeem that card at any time to get: 1 Stamp – A Extra Promo Box Pull 4 Stamps – A Play Booster Pack 8 Stamps – A Spin on our Magic Wheel 12 Stamps – Free Entry to our next Standard Prelease Event \nBe sure to look out for Commander Party and other special events tied to the Stamp League that can earn you more stamps! \nhttps://www.facebook.com/events/1411230893902388/?event_time_id=1411233810568763
URL:https://ilovebabylon.com/event/magic-the-gathering-stamp-card-league-2/
LOCATION:1883-B Deer Park Avenue\, Deer Park\, NY\, United States\, New York 11729\, 1883-B Deer Park Avenue\, Deer Park\, NY\, United States\, New York 11729
END:VEVENT
BEGIN:VEVENT
DTSTART;TZID=America/New_York:20260106T193000
DTEND;TZID=America/New_York:20260106T223000
DTSTAMP:20260422T061837
CREATED:20260104T143900Z
LAST-MODIFIED:20260104T143900Z
UID:10007402-1767727800-1767738600@ilovebabylon.com
SUMMARY:Weekly Yugioh Advanced Constructed Tournament
DESCRIPTION:7:00pm Signups7:30pm Start of Round 1$10.00 EntryOTS Packs to be distributed at the conclusion of Round 2. \nhttps://www.facebook.com/events/1350749693081633/?event_time_id=1350749816414954
URL:https://ilovebabylon.com/event/weekly-yugioh-advanced-constructed-tournament-2/
LOCATION:1883-B Deer Park Avenue\, Deer Park\, NY\, United States\, New York 11729\, 1883-B Deer Park Avenue\, Deer Park\, NY\, United States\, New York 11729
END:VEVENT
BEGIN:VEVENT
DTSTART;TZID=America/New_York:20260105T193000
DTEND;TZID=America/New_York:20260105T230000
DTSTAMP:20260422T061837
CREATED:20260104T143842Z
LAST-MODIFIED:20260104T143842Z
UID:10007400-1767641400-1767654000@ilovebabylon.com
SUMMARY:SuperShow Tournament
DESCRIPTION:Every MondayEntry: $5.00Registration at 7:00PMRound 1 at 7:30PMFull Credit Prize Pool! \nhttps://www.facebook.com/events/1484388959481342/?event_time_id=1484389069481331
URL:https://ilovebabylon.com/event/supershow-tournament-2/
LOCATION:1883-B Deer Park Avenue\, Deer Park\, NY\, United States\, New York 11729\, 1883-B Deer Park Avenue\, Deer Park\, NY\, United States\, New York 11729
END:VEVENT
BEGIN:VEVENT
DTSTART;TZID=America/New_York:20260105T193000
DTEND;TZID=America/New_York:20260105T230000
DTSTAMP:20260422T061837
CREATED:20260104T143840Z
LAST-MODIFIED:20260104T143840Z
UID:10007399-1767641400-1767654000@ilovebabylon.com
SUMMARY:Pokemon TCG League Tournament
DESCRIPTION:$10.00 EntryFull Store Credit Prize Pool1 Prize Pack per Player*7:30PM StartStandard Constructed FormatA Complete Play!Pokemon Player ID is required(Create an account on Pokemon.com and link your Player ID!)*While Supplies Last \nhttps://www.facebook.com/events/1565548781102617/?event_time_id=1565548844435944
URL:https://ilovebabylon.com/event/pokemon-tcg-league-tournament-3/
LOCATION:1883-B Deer Park Avenue\, Deer Park\, NY\, United States\, New York 11729\, 1883-B Deer Park Avenue\, Deer Park\, NY\, United States\, New York 11729
END:VEVENT
BEGIN:VEVENT
DTSTART;TZID=America/New_York:20260105T193000
DTEND;TZID=America/New_York:20260105T223000
DTSTAMP:20260422T061837
CREATED:20260104T143837Z
LAST-MODIFIED:20260104T143837Z
UID:10007398-1767641400-1767652200@ilovebabylon.com
SUMMARY:One Piece Card Game Local Tournament
DESCRIPTION:7:00PM Signups7:30PM Start$10.00 EntryFull Credit Prize PoolPromo to every player signed up!Join us every Monday & Thursday! \nhttps://www.facebook.com/events/1472144757231158/?event_time_id=1472144817231152
URL:https://ilovebabylon.com/event/one-piece-card-game-local-tournament-3/
LOCATION:1883-B Deer Park Avenue\, Deer Park\, NY\, United States\, New York 11729\, 1883-B Deer Park Avenue\, Deer Park\, NY\, United States\, New York 11729
END:VEVENT
BEGIN:VEVENT
DTSTART;TZID=America/New_York:20260104T130000
DTEND;TZID=America/New_York:20260104T160000
DTSTAMP:20260422T061837
CREATED:20251231T102905Z
LAST-MODIFIED:20251231T102905Z
UID:10007317-1767531600-1767542400@ilovebabylon.com
SUMMARY:RiftBound: League of Legends Summoner Skirmish
DESCRIPTION:Doors Open: 12:00PMEvent Begins: 1:00PMFormat: Constructed \nThis will be a Best of 3 format Swiss Tournament\, with a top cut based on attendance. \nAn account on Carde.io is recommended before arriving; if you do not have one\, one can be created with a valid email. \nOnline Registration- Players who register only on Carde.io are not valid registrations. A Pre-Registration completed on our website or in-person payment is necessary to complete your registration. Players who register ONLY on Carde.io are not guaranteed entry to this event.  \n**Due to a distribution error\, we will NOT have copies of the “Trynadamere” Promotional Card for this event. Any changes to this error will be announced as soon as possible on our Social Media pages** \nParking- We kindly ask that all event attendees respect our neighboring businesses and please do not park in their private parking lots at the risk of having your vehicle towed. Our general parking is located in the rear of the building by utilizing the driveways before the building. In the event that there is no parking available\, we ask that you park in the municipal lot diagonally across the street from our store\, find parking on Deer Park Avenue\, or park in the residential areas or other public parking spaces.
URL:https://ilovebabylon.com/event/riftbound-league-of-legends-summoner-skirmish/
LOCATION:1883-B Deer Park Avenue\, Deer Park\, NY\, United States\, New York 11729\, 1883-B Deer Park Avenue\, Deer Park\, NY\, United States\, New York 11729
END:VEVENT
BEGIN:VEVENT
DTSTART;TZID=America/New_York:20260103T120000
DTEND;TZID=America/New_York:20260103T150000
DTSTAMP:20260422T061837
CREATED:20251231T102843Z
LAST-MODIFIED:20251231T102843Z
UID:10007309-1767441600-1767452400@ilovebabylon.com
SUMMARY:Magic The Gathering - cEDH 1K
DESCRIPTION:cEDH Tournament – 1K!We will be open for check-ins starting at 11:00amAttach your Moxfield Decklist to your TopDeck Registration!Round 1 will begin promptly @ 12PMCEDH Swiss• Competitive REL• Entry Fee: $45.00• Playtest Card Limit: FULL PLAYTEST* \nRegister On our website and save $5.00! \n32 Player minimum• Tournament Structure: Swiss rounds based on attendance + Cut to Top 10 + Final Pod; Top cut increased to 16 when applicable.• Prize Structure:• Based on 32 players (prize to increase based on attendance)– 1st Place: $300.00 CASH– 2nd – 4th Place: $125.00 CASH– 5th-16th Place: $50.00 CASH \nYou may also contact us directly about this event at our e-mail Events@ripnshiparena.com \n*This event will be playtest card friendly. \nThis event will allow unlimited playtest cards to build a deck. We will be following the NYSE Playtest Card Policy\, with the exception that slips of paper inserted over cards in the sleeve will NOT be allowed. Please read below: \nNYSE Playtest Card Policy – “A Magic: the Gathering card with the full name\, card type (instant\,sorcery\, land\, artifact\, creature\, enchantment\, planeswalker)\, full mana cost and text clearly displayed. This can be done in one of several ways: \n1) Using a Sharpie\, not pen or pencil\, to fill in the required text on a card where it can clearly be read. Revised lands or Double-Faced helper cards are excellent for this\, new commons and uncommons aren’t usual\, as they’re darker\, and far tougher to read. \n2) Using acetone to remove certain text from a card that’s close to the intended playtest card. \n3) Other allowable playtest cards include those from Magic 30th Edition\, Collector’s Edition\, and International Edition. \nAll registrations on TopDeck.gg must be accompanied by a paid registration from www.ripnshiparena.com. Any registrations that do not have a payment will be removed. Payment can be made on our website https://www.ripnshiparena.com/collections/rip-n-ship-gaming-events \nParking- We kindly ask that all event attendees respect our neighboring businesses and please do not park in their private parking lots at the risk of having your vehicle towed. Our general parking is located in the rear of the building by utilizing the driveways before the building. In the event that there is no parking available\, we ask that you park in the municipal lot diagonally across the street from our store\, find parking on Deer Park Avenue\, or park in the residential areas or other public parking spaces.
URL:https://ilovebabylon.com/event/magic-the-gathering-cedh-1k/
LOCATION:1883-B Deer Park Avenue\, Deer Park\, NY\, United States\, New York 11729\, 1883-B Deer Park Avenue\, Deer Park\, NY\, United States\, New York 11729
END:VEVENT
BEGIN:VEVENT
DTSTART;TZID=America/New_York:20251208T193000
DTEND;TZID=America/New_York:20251208T230000
DTSTAMP:20260422T061837
CREATED:20251205T200006Z
LAST-MODIFIED:20251205T200006Z
UID:10007247-1765222200-1765234800@ilovebabylon.com
SUMMARY:SuperShow Tournament
DESCRIPTION:Every MondayEntry: $5.00Registration at 7:00PMRound 1 at 7:30PMFull Credit Prize Pool! \nhttps://www.facebook.com/events/1484388959481342/?event_time_id=1484388976148007
URL:https://ilovebabylon.com/event/supershow-tournament/
LOCATION:1883-B Deer Park Avenue\, Deer Park\, NY\, United States\, New York 11729\, 1883-B Deer Park Avenue\, Deer Park\, NY\, United States\, New York 11729
END:VEVENT
BEGIN:VEVENT
DTSTART;TZID=America/New_York:20251206T120000
DTEND;TZID=America/New_York:20251206T150000
DTSTAMP:20260422T061837
CREATED:20251205T125819Z
LAST-MODIFIED:20251205T125819Z
UID:10007077-1765022400-1765033200@ilovebabylon.com
SUMMARY:cEDH Monthly - Mox Diamond!
DESCRIPTION:cEDH Tournament – Mox Diamond!We will be open for check-ins starting at 11:00amAttach your Moxfield Decklist to your TopDeck Registration!Round 1 will begin promptly @ 12PMCEDH Swiss• Competitive REL• Entry Fee: $45.00• Playtest Card Limit: FULL PLAYTEST*·Attach your Moxfield Decklist to your TopDeck Registration! – https://topdeck.gg/event/cedh-monthly-mox-diamond· \nRegister On our website and save $5.00! \n32 Player minimum• Tournament Structure: Swiss rounds based on attendance + Cut to Top 10 + Final Pod; Top cut increased to 16 when applicable.• Prize Structure:• Based on 32 players (prize to increase based on attendance)– 1st Place: Mox Diamond – 2nd – 4th Place: $100.00 Store Credit– 5th-16th Place: $50.00 Store Credit \nYou may also contact us directly about this event at our e-mail Events@ripnshiparena.com \n*This event will be playtest card friendly. \nThis event will allow unlimited playtest cards to build a deck. We will be following the NYSE Playtest Card Policy\, with the exception that slips of paper inserted over cards in the sleeve will NOT be allowed. Please read below: \nNYSE Playtest Card Policy – “A Magic: the Gathering card with the full name\, card type (instant\,sorcery\, land\, artifact\, creature\, enchantment\, planeswalker)\, full mana cost and text clearly displayed. This can be done in one of several ways: \n1) Using a Sharpie\, not pen or pencil\, to fill in the required text on a card where it can clearly be read. Revised lands or Double-Faced helper cards are excellent for this\, new commons and uncommons aren’t usual\, as they’re darker\, and far tougher to read. \n2) Using acetone to remove certain text from a card that’s close to the intended playtest card. \n3) Other allowable playtest cards include those from Magic 30th Edition\, Collector’s Edition\, and International Edition. \nAll registrations on TopDeck.gg must be accompanied by a paid registration from www.ripnshiparena.com. Any registrations that do not have a payment will be removed. Payment can be made on our website https://www.ripnshiparena.com/collections/rip-n-ship-gaming-events
URL:https://ilovebabylon.com/event/cedh-monthly-mox-diamond/
LOCATION:1883-B Deer Park Avenue\, Deer Park\, NY\, United States\, New York 11729\, 1883-B Deer Park Avenue\, Deer Park\, NY\, United States\, New York 11729
CATEGORIES:Gaming & Hobbies,Sports and Gaming,Tournament
END:VEVENT
BEGIN:VEVENT
DTSTART;TZID=America/New_York:20251205T193000
DTEND;TZID=America/New_York:20251205T230000
DTSTAMP:20260422T061837
CREATED:20251205T125822Z
LAST-MODIFIED:20251205T125822Z
UID:10007068-1764963000-1764975600@ilovebabylon.com
SUMMARY:Riftbound Weekly Tournaments
DESCRIPTION:$10.00 Entry*7:00PM Signups7:30PM StartFull Store Credit Prize Pool \n*Weekly Events Postponed If/When there is a Magic The Gathering PreRelease Event* \nhttps://www.facebook.com/events/1319962622955706/?event_time_id=1319962706289031
URL:https://ilovebabylon.com/event/riftbound-weekly-tournaments/
LOCATION:1883-B Deer Park Avenue\, Deer Park\, NY\, United States\, New York 11729\, 1883-B Deer Park Avenue\, Deer Park\, NY\, United States\, New York 11729
CATEGORIES:Gaming & Hobbies,Sports and Gaming,Tournament
END:VEVENT
BEGIN:VEVENT
DTSTART;TZID=America/New_York:20251204T193000
DTEND;TZID=America/New_York:20251204T223000
DTSTAMP:20260422T061837
CREATED:20251205T125827Z
LAST-MODIFIED:20251205T125827Z
UID:10007056-1764876600-1764887400@ilovebabylon.com
SUMMARY:One Piece Card Game Local Tournament
DESCRIPTION:7:00PM Signups7:30PM Start$10.00 EntryFull Credit Prize PoolPromo to every player signed up!Join us every Monday & Thursday! \nhttps://www.facebook.com/events/1102033492086776/?event_time_id=1102033568753435
URL:https://ilovebabylon.com/event/one-piece-card-game-local-tournament/
LOCATION:1883-B Deer Park Avenue\, Deer Park\, NY\, United States\, New York 11729\, 1883-B Deer Park Avenue\, Deer Park\, NY\, United States\, New York 11729
CATEGORIES:Gaming & Hobbies,Sports and Gaming,Tournament
END:VEVENT
BEGIN:VEVENT
DTSTART;TZID=America/New_York:20251204T193000
DTEND;TZID=America/New_York:20251204T223000
DTSTAMP:20260422T061837
CREATED:20251205T125824Z
LAST-MODIFIED:20251205T125824Z
UID:10007057-1764876600-1764887400@ilovebabylon.com
SUMMARY:Pokemon TCG League Tournament
DESCRIPTION:$10.00 EntryFull Store Credit Prize Pool1 Prize Pack per Player*7:30PM StartStandard Constructed FormatA Complete Play!Pokemon Player ID is required(Create an account on Pokemon.com and link your Player ID!)*While Supplies Last \nhttps://www.facebook.com/events/744793075233424/?event_time_id=744793155233416
URL:https://ilovebabylon.com/event/pokemon-tcg-league-tournament/
LOCATION:1883-B Deer Park Avenue\, Deer Park\, NY\, United States\, New York 11729\, 1883-B Deer Park Avenue\, Deer Park\, NY\, United States\, New York 11729
CATEGORIES:Gaming & Hobbies,Sports and Gaming,Tournament
END:VEVENT
BEGIN:VEVENT
DTSTART;TZID=America/New_York:20251203T193000
DTEND;TZID=America/New_York:20251203T230000
DTSTAMP:20260422T061837
CREATED:20251129T185124Z
LAST-MODIFIED:20251129T185124Z
UID:10007052-1764790200-1764802800@ilovebabylon.com
SUMMARY:Magic The Gathering: Stamp Card League
DESCRIPTION:A new way to reward our returning players on Wednesday evenings!  \nCome down\, play Magic\, put the Companion Code in\, and with any $5 Magic purchase you’ll get a Stamp Card\, or +1 Stamp on the card!  \nRedeem that card at any time to get: 1 Stamp – A Extra Promo Box Pull 4 Stamps – A Play Booster Pack 8 Stamps – A Spin on our Magic Wheel 12 Stamps – Free Entry to our next Standard Prelease Event \nBe sure to look out for Commander Party and other special events tied to the Stamp League that can earn you more stamps! \nhttps://www.facebook.com/events/1411230893902388/?event_time_id=1411233817235429
URL:https://ilovebabylon.com/event/magic-the-gathering-stamp-card-league/
LOCATION:1883-B Deer Park Avenue\, Deer Park\, NY\, United States\, New York 11729\, 1883-B Deer Park Avenue\, Deer Park\, NY\, United States\, New York 11729
CATEGORIES:Gaming & Hobbies
END:VEVENT
BEGIN:VEVENT
DTSTART;TZID=America/New_York:20251203T193000
DTEND;TZID=America/New_York:20251203T230000
DTSTAMP:20260422T061837
CREATED:20251129T163824Z
LAST-MODIFIED:20251129T163824Z
UID:10007053-1764790200-1764802800@ilovebabylon.com
SUMMARY:Flesh and Blood - Blitz Tournament
DESCRIPTION:Entry: $10.00Signups – 7:00PMStart – 7:30PMBlitz FormatFull Store Credit Prize PoolPromo Cards while Supplies Last \nhttps://www.facebook.com/events/689471587099218/?event_time_id=689471653765878
URL:https://ilovebabylon.com/event/flesh-and-blood-blitz-tournament/
LOCATION:1883-B Deer Park Avenue\, Deer Park\, NY\, United States\, New York 11729\, 1883-B Deer Park Avenue\, Deer Park\, NY\, United States\, New York 11729
CATEGORIES:Gaming & Hobbies,Sports and Gaming,Tournament
END:VEVENT
BEGIN:VEVENT
DTSTART;TZID=America/New_York:20251202T193000
DTEND;TZID=America/New_York:20251202T223000
DTSTAMP:20260422T061837
CREATED:20251129T163826Z
LAST-MODIFIED:20251129T163826Z
UID:10007046-1764703800-1764714600@ilovebabylon.com
SUMMARY:Weekly Yugioh Advanced Constructed Tournament
DESCRIPTION:7:00pm Signups7:30pm Start of Round 1$10.00 EntryOTS Packs to be distributed at the conclusion of Round 2. \nhttps://www.facebook.com/events/1350749693081633/?event_time_id=1350749813081621
URL:https://ilovebabylon.com/event/weekly-yugioh-advanced-constructed-tournament/
LOCATION:1883-B Deer Park Avenue\, Deer Park\, NY\, United States\, New York 11729\, 1883-B Deer Park Avenue\, Deer Park\, NY\, United States\, New York 11729
CATEGORIES:Gaming & Hobbies,Sports and Gaming,Tournament
END:VEVENT
BEGIN:VEVENT
DTSTART;TZID=America/New_York:20251201T193000
DTEND;TZID=America/New_York:20251201T223000
DTSTAMP:20260422T061837
CREATED:20251129T163830Z
LAST-MODIFIED:20251129T163830Z
UID:10007040-1764617400-1764628200@ilovebabylon.com
SUMMARY:One Piece Card Game Local Tournament
DESCRIPTION:7:00PM Signups7:30PM Start$10.00 EntryFull Credit Prize PoolPromo to every player signed up!Join us every Monday & Thursday! \nhttps://www.facebook.com/events/1472144757231158/?event_time_id=1472144837231150
URL:https://ilovebabylon.com/event/one-piece-card-game-local-tournament-2/
LOCATION:1883-B Deer Park Avenue\, Deer Park\, NY\, United States\, New York 11729\, 1883-B Deer Park Avenue\, Deer Park\, NY\, United States\, New York 11729
CATEGORIES:Gaming & Hobbies,Sports and Gaming,Tournament
END:VEVENT
BEGIN:VEVENT
DTSTART;TZID=America/New_York:20251201T193000
DTEND;TZID=America/New_York:20251201T230000
DTSTAMP:20260422T061837
CREATED:20251129T163828Z
LAST-MODIFIED:20251129T163828Z
UID:10007041-1764617400-1764630000@ilovebabylon.com
SUMMARY:Pokemon TCG League Tournament
DESCRIPTION:$10.00 EntryFull Store Credit Prize Pool1 Prize Pack per Player*7:30PM StartStandard Constructed FormatA Complete Play!Pokemon Player ID is required(Create an account on Pokemon.com and link your Player ID!)*While Supplies Last \nhttps://www.facebook.com/events/1565548781102617/?event_time_id=1565548811102614
URL:https://ilovebabylon.com/event/pokemon-tcg-league-tournament-2/
LOCATION:1883-B Deer Park Avenue\, Deer Park\, NY\, United States\, New York 11729\, 1883-B Deer Park Avenue\, Deer Park\, NY\, United States\, New York 11729
CATEGORIES:Gaming & Hobbies,Sports and Gaming,Tournament
END:VEVENT
BEGIN:VEVENT
DTSTART;TZID=America/New_York:20251130T110000
DTEND;TZID=America/New_York:20251130T140000
DTSTAMP:20260422T061837
CREATED:20251129T185127Z
LAST-MODIFIED:20251129T185127Z
UID:10007035-1764500400-1764511200@ilovebabylon.com
SUMMARY:Pokemon TCG: League Cup
DESCRIPTION:Start Time: 11:00AM Signups: 10:00AMEntry: $20.00Format: Standard Swiss Rounds – Best of 1; Top Cut – Best of 3 \nThis is a competitive event where trainers can earn Championship points.  \nDeck lists are required – Email to Events@RipNShipArena.com \nPlayers MUST show up with their play IDs. If you do not have one\, we can assign you a new one. If you will need a new ID\, please plan to show up early\, as we will be starting promptly at 10:00AM  \nFor more information regarding this event\, please contact us by email at Events@RipNShipArena.com \n*On-site Registration Available based on availability
URL:https://ilovebabylon.com/event/pokemon-tcg-league-cup/
LOCATION:1883-B Deer Park Avenue\, Deer Park\, NY\, United States\, New York 11729\, 1883-B Deer Park Avenue\, Deer Park\, NY\, United States\, New York 11729
CATEGORIES:Gaming & Hobbies
END:VEVENT
BEGIN:VEVENT
DTSTART;TZID=America/New_York:20251129T200000
DTEND;TZID=America/New_York:20251129T220000
DTSTAMP:20260422T061837
CREATED:20251129T173040Z
LAST-MODIFIED:20251129T173040Z
UID:10007028-1764446400-1764453600@ilovebabylon.com
SUMMARY:Dungeons & Dragons - Ongoing Campaigns
DESCRIPTION:Every SaturdayEntry: $10Sign-In – 7:00PMPlay Begins – 8:00PM$2.00 Snack Credit Included \nInterested in running your own campaign? Reach out for our Dungeon Master program.  \nhttps://www.facebook.com/events/1089298406410134/?event_time_id=1089298493076792
URL:https://ilovebabylon.com/event/dungeons-dragons-ongoing-campaigns/
LOCATION:1883-B Deer Park Avenue\, Deer Park\, NY\, United States\, New York 11729\, 1883-B Deer Park Avenue\, Deer Park\, NY\, United States\, New York 11729
CATEGORIES:Gaming & Hobbies
END:VEVENT
END:VCALENDAR