BEGIN:VCALENDAR
VERSION:2.0
PRODID:-//I Love Babylon, NY - ECPv6.15.20//NONSGML v1.0//EN
CALSCALE:GREGORIAN
METHOD:PUBLISH
X-WR-CALNAME:I Love Babylon, NY
X-ORIGINAL-URL:https://ilovebabylon.com
X-WR-CALDESC:Events for I Love Babylon, NY
REFRESH-INTERVAL;VALUE=DURATION:PT1H
X-Robots-Tag:noindex
X-PUBLISHED-TTL:PT1H
BEGIN:VTIMEZONE
TZID:America/New_York
BEGIN:DAYLIGHT
TZOFFSETFROM:-0500
TZOFFSETTO:-0400
TZNAME:EDT
DTSTART:20250309T070000
END:DAYLIGHT
BEGIN:STANDARD
TZOFFSETFROM:-0400
TZOFFSETTO:-0500
TZNAME:EST
DTSTART:20251102T060000
END:STANDARD
BEGIN:DAYLIGHT
TZOFFSETFROM:-0500
TZOFFSETTO:-0400
TZNAME:EDT
DTSTART:20260308T070000
END:DAYLIGHT
BEGIN:STANDARD
TZOFFSETFROM:-0400
TZOFFSETTO:-0500
TZNAME:EST
DTSTART:20261101T060000
END:STANDARD
BEGIN:DAYLIGHT
TZOFFSETFROM:-0500
TZOFFSETTO:-0400
TZNAME:EDT
DTSTART:20270314T070000
END:DAYLIGHT
BEGIN:STANDARD
TZOFFSETFROM:-0400
TZOFFSETTO:-0500
TZNAME:EST
DTSTART:20271107T060000
END:STANDARD
END:VTIMEZONE
BEGIN:VEVENT
DTSTART;TZID=America/New_York:20260418T230000
DTEND;TZID=America/New_York:20260419T020000
DTSTAMP:20260422T110736
CREATED:20260331T231616Z
LAST-MODIFIED:20260417T073538Z
UID:10008106-1776553200-1776564000@ilovebabylon.com
SUMMARY:SANCTIFIED Dark Dance Party
DESCRIPTION:SANCTIFIEDLong Island’s Monthly Dark Dance Ritual returns to AMH on Saturday April 18th!! \nWhether you come to dance\, connect\, or simply embrace the shadows\, Sanctified is where Long Island’s dark music community gathers. \nJoin us for another night of dark music\, decadent atmosphere\, and the community that makes Sanctified a ritual worth returning to each month. \nBehind the decks\, DJ Kamikaze Tomato is joined by special guest DJ Jackpot (QXTs)\, delivering a night of Darkwave\, Goth\, and Industrial to keep the dance floor alive deep into the night. \nExplore the darker corners of the evening with our tarot reader abd featured vendor of the month: \n● Vending by InkVenus● Tarot readings by Priscilla \nSeeing Suicide Commando at QXTs on April 17? Keep the dark weekend going. \nFor those of you going to Suicide Commando on 4/17 – Show your ticket or proof of attendance from the 4/17 show at the door and receive discounted entry to Sanctified on 4/18 for just $10. Our special guest DJ Jackpot will also be spinning on the main floor at the Suicide Commando show.. so join us for two nights of dark music with the same sinister energy. \nMake a weekend of it!GET SANCTIFIED! \nSaturday\, April 18 Doors: 11PM \nAMH | 198 Broadway. Amityville\, NY$15 Adv or w/Flyer | $20 Day of \nhttps://www.etix.com/ticket/p/32148927/sanctifieddark-dance-night-21-amityville-amh
URL:https://ilovebabylon.com/event/sanctified-dark-dance-party/
LOCATION:AMH\, AMH
END:VEVENT
END:VCALENDAR