BEGIN:VCALENDAR
VERSION:2.0
PRODID:-//I Love Babylon, NY - ECPv6.15.20//NONSGML v1.0//EN
CALSCALE:GREGORIAN
METHOD:PUBLISH
X-ORIGINAL-URL:https://ilovebabylon.com
X-WR-CALDESC:Events for I Love Babylon, NY
REFRESH-INTERVAL;VALUE=DURATION:PT1H
X-Robots-Tag:noindex
X-PUBLISHED-TTL:PT1H
BEGIN:VTIMEZONE
TZID:America/New_York
BEGIN:DAYLIGHT
TZOFFSETFROM:-0500
TZOFFSETTO:-0400
TZNAME:EDT
DTSTART:20250309T070000
END:DAYLIGHT
BEGIN:STANDARD
TZOFFSETFROM:-0400
TZOFFSETTO:-0500
TZNAME:EST
DTSTART:20251102T060000
END:STANDARD
BEGIN:DAYLIGHT
TZOFFSETFROM:-0500
TZOFFSETTO:-0400
TZNAME:EDT
DTSTART:20260308T070000
END:DAYLIGHT
BEGIN:STANDARD
TZOFFSETFROM:-0400
TZOFFSETTO:-0500
TZNAME:EST
DTSTART:20261101T060000
END:STANDARD
BEGIN:DAYLIGHT
TZOFFSETFROM:-0500
TZOFFSETTO:-0400
TZNAME:EDT
DTSTART:20270314T070000
END:DAYLIGHT
BEGIN:STANDARD
TZOFFSETFROM:-0400
TZOFFSETTO:-0500
TZNAME:EST
DTSTART:20271107T060000
END:STANDARD
END:VTIMEZONE
BEGIN:VEVENT
DTSTART;TZID=America/New_York:20260501T190000
DTEND;TZID=America/New_York:20260501T235900
DTSTAMP:20260424T041809
CREATED:20260423T175250Z
LAST-MODIFIED:20260423T175250Z
UID:10008349-1777662000-1777679940@ilovebabylon.com
SUMMARY:05/01 - LI Goth Prom - Post-Punk Formal
DESCRIPTION:Calling the strange and unusual\, it’s time to go to the prom.  \nIt’s our 5th annual goth / new wave / post-punk dance party. Formal wear with a Goth or Halloween spin is highly encouraged. \nDress to impress for your chance to win fabulous prizes and to go down in history as Prom Royalty. \nDJ Tony Black will have you twist and shout to the best of Siouxsie\, Joy Division\, the Damned\, and beyond. \nSip some punch (spiked\, if that’s your thing). Get a limo (we dare you). There will be a formal prom photo booth\, too! \n18+ to party\, 21+ to drink Tickets on sale February 1\, 2026
URL:https://ilovebabylon.com/event/05-01-li-goth-prom-post-punk-formal/
LOCATION:Sand City South\, 150 South Wellwood Ave\, Lindenhurst\, NY\, 11757\, US
END:VEVENT
END:VCALENDAR