BEGIN:VCALENDAR
VERSION:2.0
PRODID:-//I Love Babylon, NY - ECPv6.15.20//NONSGML v1.0//EN
CALSCALE:GREGORIAN
METHOD:PUBLISH
X-WR-CALNAME:I Love Babylon, NY
X-ORIGINAL-URL:https://ilovebabylon.com
X-WR-CALDESC:Events for I Love Babylon, NY
REFRESH-INTERVAL;VALUE=DURATION:PT1H
X-Robots-Tag:noindex
X-PUBLISHED-TTL:PT1H
BEGIN:VTIMEZONE
TZID:America/New_York
BEGIN:DAYLIGHT
TZOFFSETFROM:-0500
TZOFFSETTO:-0400
TZNAME:EDT
DTSTART:20240310T070000
END:DAYLIGHT
BEGIN:STANDARD
TZOFFSETFROM:-0400
TZOFFSETTO:-0500
TZNAME:EST
DTSTART:20241103T060000
END:STANDARD
BEGIN:DAYLIGHT
TZOFFSETFROM:-0500
TZOFFSETTO:-0400
TZNAME:EDT
DTSTART:20250309T070000
END:DAYLIGHT
BEGIN:STANDARD
TZOFFSETFROM:-0400
TZOFFSETTO:-0500
TZNAME:EST
DTSTART:20251102T060000
END:STANDARD
BEGIN:DAYLIGHT
TZOFFSETFROM:-0500
TZOFFSETTO:-0400
TZNAME:EDT
DTSTART:20260308T070000
END:DAYLIGHT
BEGIN:STANDARD
TZOFFSETFROM:-0400
TZOFFSETTO:-0500
TZNAME:EST
DTSTART:20261101T060000
END:STANDARD
END:VTIMEZONE
BEGIN:VEVENT
DTSTART;TZID=America/New_York:20251129T120000
DTEND;TZID=America/New_York:20251129T140000
DTSTAMP:20260420T075713
CREATED:20251129T192325Z
LAST-MODIFIED:20251129T192325Z
UID:10007024-1764417600-1764424800@ilovebabylon.com
SUMMARY:Charitable Pop-Up
DESCRIPTION:You are all invited to join us at Raymour Flanigan @ 2005 Broadhollow Rd\, Farmingdale\, NY 11735 this Saturday 11/29/2025 from noon – 2pm. They will be presenting WOGA New York\, Inc. with a donation check to aid in our restoration of Westwood High. YOU are all encouraged to come in\, meet with us and browse the showroom. We will also have WHS dolls\, tote bags and pins on hand for sale\, as well as the ability to collect donations. If you are in or will be in the Farmingdale/Melville\, Nassau/Suffolk areas we want to see you! Please share with your friends/family/circle who are in the area – thanks & see you there!
URL:https://ilovebabylon.com/event/charitable-pop-up/
LOCATION:Raymour & Flanigan Furniture and Mattress Store\, Raymour & Flanigan Furniture and Mattress Store
CATEGORIES:Fundraiser
END:VEVENT
END:VCALENDAR