BEGIN:VCALENDAR
VERSION:2.0
PRODID:-//I Love Babylon, NY - ECPv6.15.20//NONSGML v1.0//EN
CALSCALE:GREGORIAN
METHOD:PUBLISH
X-WR-CALNAME:I Love Babylon, NY
X-ORIGINAL-URL:https://ilovebabylon.com
X-WR-CALDESC:Events for I Love Babylon, NY
REFRESH-INTERVAL;VALUE=DURATION:PT1H
X-Robots-Tag:noindex
X-PUBLISHED-TTL:PT1H
BEGIN:VTIMEZONE
TZID:America/New_York
BEGIN:DAYLIGHT
TZOFFSETFROM:-0500
TZOFFSETTO:-0400
TZNAME:EDT
DTSTART:20250309T070000
END:DAYLIGHT
BEGIN:STANDARD
TZOFFSETFROM:-0400
TZOFFSETTO:-0500
TZNAME:EST
DTSTART:20251102T060000
END:STANDARD
BEGIN:DAYLIGHT
TZOFFSETFROM:-0500
TZOFFSETTO:-0400
TZNAME:EDT
DTSTART:20260308T070000
END:DAYLIGHT
BEGIN:STANDARD
TZOFFSETFROM:-0400
TZOFFSETTO:-0500
TZNAME:EST
DTSTART:20261101T060000
END:STANDARD
BEGIN:DAYLIGHT
TZOFFSETFROM:-0500
TZOFFSETTO:-0400
TZNAME:EDT
DTSTART:20270314T070000
END:DAYLIGHT
BEGIN:STANDARD
TZOFFSETFROM:-0400
TZOFFSETTO:-0500
TZNAME:EST
DTSTART:20271107T060000
END:STANDARD
END:VTIMEZONE
BEGIN:VEVENT
DTSTART;TZID=America/New_York:20260419T073000
DTEND;TZID=America/New_York:20260419T103000
DTSTAMP:20260422T111012
CREATED:20260331T231625Z
LAST-MODIFIED:20260417T073545Z
UID:10008108-1776583800-1776594600@ilovebabylon.com
SUMMARY:Babylon Lions Club "Annual 57th Pancake/Omelet Station Breakfast"
DESCRIPTION:How about some GREAT pancakes and for a GREAT cause? It’s that time of the year\, Babylon Village! Join us for The 57th Annual Babylon Lions Club Pancake Breakfast!  \nEnjoy the comfort of not only the pancakes\, sausage and eggs\, but also a community coming together to assist in raising money for local charities.*** New Omelet Station to enjoy\, too!*** \nThank you Babylon Lions Club for always taking care of our community and those in need! \n$15.00 donation per person. Children 5 and under are free.
URL:https://ilovebabylon.com/event/babylon-lions-club-annual-57th-pancake-omelet-station-breakfast/
LOCATION:American Legion Post #94\, 22 Grove Place\, Babylon\, American Legion Post #94\, 22 Grove Place\, Babylon
END:VEVENT
END:VCALENDAR