BEGIN:VCALENDAR
VERSION:2.0
PRODID:-//I Love Babylon, NY - ECPv6.15.20//NONSGML v1.0//EN
CALSCALE:GREGORIAN
METHOD:PUBLISH
X-ORIGINAL-URL:https://ilovebabylon.com
X-WR-CALDESC:Events for I Love Babylon, NY
REFRESH-INTERVAL;VALUE=DURATION:PT1H
X-Robots-Tag:noindex
X-PUBLISHED-TTL:PT1H
BEGIN:VTIMEZONE
TZID:America/New_York
BEGIN:DAYLIGHT
TZOFFSETFROM:-0500
TZOFFSETTO:-0400
TZNAME:EDT
DTSTART:20250309T070000
END:DAYLIGHT
BEGIN:STANDARD
TZOFFSETFROM:-0400
TZOFFSETTO:-0500
TZNAME:EST
DTSTART:20251102T060000
END:STANDARD
BEGIN:DAYLIGHT
TZOFFSETFROM:-0500
TZOFFSETTO:-0400
TZNAME:EDT
DTSTART:20260308T070000
END:DAYLIGHT
BEGIN:STANDARD
TZOFFSETFROM:-0400
TZOFFSETTO:-0500
TZNAME:EST
DTSTART:20261101T060000
END:STANDARD
BEGIN:DAYLIGHT
TZOFFSETFROM:-0500
TZOFFSETTO:-0400
TZNAME:EDT
DTSTART:20270314T070000
END:DAYLIGHT
BEGIN:STANDARD
TZOFFSETFROM:-0400
TZOFFSETTO:-0500
TZNAME:EST
DTSTART:20271107T060000
END:STANDARD
END:VTIMEZONE
BEGIN:VEVENT
DTSTART;TZID=America/New_York:20260422T180000
DTEND;TZID=America/New_York:20260422T210000
DTSTAMP:20260420T054738
CREATED:20260417T073654Z
LAST-MODIFIED:20260417T073654Z
UID:10008203-1776880800-1776891600@ilovebabylon.com
SUMMARY:Long Island AGAPE In-Person Reframing Parenting Workshop Series | Spring 2026
DESCRIPTION:The Coalition’s Reframing Parenting Workshops are a FREE series for parents raising children with trauma or difficult past histories! \nWHERE: 21 Greene Avenue in Amityville \nSpring 2026 Schedule: 04/15 \, 04/22\, 04/29\, 05/6\, 5/13 and 5/20 \nThis curriculum has been adopted and modified by the Adoptive and Foster Family Coalition of New York to help foster\, adoptive and kinship parents nurture attachments with their child.While literally ALL parents (and their children) can benefit from these workshops\, if you are caring for a child who has spent time in foster care or had a difficult past\, including any losses from adoption\, don’t miss this opportunity to really add some vital tools to your toolkit! Of course like all Coalition support services\, Reframing Parenting is FREE! All you have to do is register and show up! \nReframing Parenting is a training curriculum based on Foundations for Attachment Training Resource by Kim Golding\, whose work is turn based on that of Dan Hughes. In adapting this curriculum\, the Coalition has made it most relevant for parents working within New York’s child welfare system. The Coalition has also taken steps to ensure that the training can reach and speak to parents who feel they have tried everything and/or who are struggling to find a better way to connect with and effectively parent their child – and do so in a way that has lasting impact and that can be implemented on a day-in\, day basis within a family. The training is structured to provide ample time for connection between participants with the ancillary goal of having peer support develop out of participation in the training. \nThis parent friendly workshop series is formed by attachment theory and Dyadic Developmental Psychotherapy (DDP) and consists of three core modules:* Looking After Self* Understanding Challenges of Parenting* Therapeutic Parenting \nWhat other parents have said about their experiences taking the Reframing Parenting classes: \n“I really appreciated the hosts sharing their own experiences as parents and as caseworkers – it really brought perspective and a feeling of not being alone in this.” \n“All sessions were very informational\, great discussions went along with the topics. I learned so much about self care as I don’t take the time out for myself!” \nVisit affcny.org/rsvp to register now!  \nhttps://www.facebook.com/events/946269884839776/?event_time_id=946269898173108
URL:https://ilovebabylon.com/event/long-island-agape-in-person-reframing-parenting-workshop-series-spring-2026/
LOCATION:Greene Ave\, Amityville\, NY 11701\, United States\, Greene Ave\, Amityville\, NY 11701\, United States
END:VEVENT
END:VCALENDAR