BEGIN:VCALENDAR
VERSION:2.0
PRODID:-//I Love Babylon, NY - ECPv6.15.20//NONSGML v1.0//EN
CALSCALE:GREGORIAN
METHOD:PUBLISH
X-ORIGINAL-URL:https://ilovebabylon.com
X-WR-CALDESC:Events for I Love Babylon, NY
REFRESH-INTERVAL;VALUE=DURATION:PT1H
X-Robots-Tag:noindex
X-PUBLISHED-TTL:PT1H
BEGIN:VTIMEZONE
TZID:America/New_York
BEGIN:DAYLIGHT
TZOFFSETFROM:-0500
TZOFFSETTO:-0400
TZNAME:EDT
DTSTART:20250309T070000
END:DAYLIGHT
BEGIN:STANDARD
TZOFFSETFROM:-0400
TZOFFSETTO:-0500
TZNAME:EST
DTSTART:20251102T060000
END:STANDARD
BEGIN:DAYLIGHT
TZOFFSETFROM:-0500
TZOFFSETTO:-0400
TZNAME:EDT
DTSTART:20260308T070000
END:DAYLIGHT
BEGIN:STANDARD
TZOFFSETFROM:-0400
TZOFFSETTO:-0500
TZNAME:EST
DTSTART:20261101T060000
END:STANDARD
BEGIN:DAYLIGHT
TZOFFSETFROM:-0500
TZOFFSETTO:-0400
TZNAME:EDT
DTSTART:20270314T070000
END:DAYLIGHT
BEGIN:STANDARD
TZOFFSETFROM:-0400
TZOFFSETTO:-0500
TZNAME:EST
DTSTART:20271107T060000
END:STANDARD
END:VTIMEZONE
BEGIN:VEVENT
DTSTART;TZID=America/New_York:20260419T090000
DTEND;TZID=America/New_York:20260419T110000
DTSTAMP:20260422T015900
CREATED:20260331T231630Z
LAST-MODIFIED:20260417T073552Z
UID:10008110-1776589200-1776596400@ilovebabylon.com
SUMMARY:Creek Defender - West Babylon - Santapogue Creek
DESCRIPTION:Caring for the Great South Bay begins on the land. We want to improve the quality of the water entering our bay by removing litter\, debris\, and invasive species. We need your help to do that! We welcome everyone\, regardless of experience\, to participate. Clean-up gear will be provided. Please wear eye protection\, long sleeves\, pants\, and sturdy water-resistant boots. Children 14 and under must be accompanied by an adult.Community service is available. \nSign up here: https://www.signupgenius.com/go/10C084EA9AE2BA2FDCE9-61674089-creek#/
URL:https://ilovebabylon.com/event/creek-defender-west-babylon-santapogue-creek/
LOCATION:LA Fitness\, LA Fitness
END:VEVENT
END:VCALENDAR