BEGIN:VCALENDAR
VERSION:2.0
PRODID:-//I Love Babylon, NY - ECPv6.15.20//NONSGML v1.0//EN
CALSCALE:GREGORIAN
METHOD:PUBLISH
X-ORIGINAL-URL:https://ilovebabylon.com
X-WR-CALDESC:Events for I Love Babylon, NY
REFRESH-INTERVAL;VALUE=DURATION:PT1H
X-Robots-Tag:noindex
X-PUBLISHED-TTL:PT1H
BEGIN:VTIMEZONE
TZID:America/New_York
BEGIN:DAYLIGHT
TZOFFSETFROM:-0500
TZOFFSETTO:-0400
TZNAME:EDT
DTSTART:20250309T070000
END:DAYLIGHT
BEGIN:STANDARD
TZOFFSETFROM:-0400
TZOFFSETTO:-0500
TZNAME:EST
DTSTART:20251102T060000
END:STANDARD
BEGIN:DAYLIGHT
TZOFFSETFROM:-0500
TZOFFSETTO:-0400
TZNAME:EDT
DTSTART:20260308T070000
END:DAYLIGHT
BEGIN:STANDARD
TZOFFSETFROM:-0400
TZOFFSETTO:-0500
TZNAME:EST
DTSTART:20261101T060000
END:STANDARD
BEGIN:DAYLIGHT
TZOFFSETFROM:-0500
TZOFFSETTO:-0400
TZNAME:EDT
DTSTART:20270314T070000
END:DAYLIGHT
BEGIN:STANDARD
TZOFFSETFROM:-0400
TZOFFSETTO:-0500
TZNAME:EST
DTSTART:20271107T060000
END:STANDARD
END:VTIMEZONE
BEGIN:VEVENT
DTSTART;TZID=America/New_York:20260425T140000
DTEND;TZID=America/New_York:20260425T160000
DTSTAMP:20260420T231703
CREATED:20260420T202025Z
LAST-MODIFIED:20260420T202025Z
UID:10008287-1777125600-1777132800@ilovebabylon.com
SUMMARY:Sean Goodwin Day in the Village of Babylon
DESCRIPTION:The Babylon Beautification Society\, the Village of Babylon\, and the Village of Babylon Historical & Preservation Society are honored to present Sean Goodwin Day. \nJoin us as we celebrate the life and legacy of Trustee Sean Goodwin\, a beloved member of our community who dedicated so much to our village. \nThe event will be held at The Nathaniel Conklin House on Saturday\, April 25\, 2026\, from 2:00 PM to 4:00 PM. \nComplimentary light food and refreshments will be served.This is a family event and is open to the public. The event will be held rain or shine.
URL:https://ilovebabylon.com/event/sean-goodwin-day-in-the-village-of-babylon/
LOCATION:Nathaniel Conklin House\, 280 Deer Park Avenue\, Nathaniel Conklin House\, 280 Deer Park Avenue
END:VEVENT
END:VCALENDAR