BEGIN:VCALENDAR
VERSION:2.0
PRODID:-//I Love Babylon, NY - ECPv6.15.20//NONSGML v1.0//EN
CALSCALE:GREGORIAN
METHOD:PUBLISH
X-ORIGINAL-URL:https://ilovebabylon.com
X-WR-CALDESC:Events for I Love Babylon, NY
REFRESH-INTERVAL;VALUE=DURATION:PT1H
X-Robots-Tag:noindex
X-PUBLISHED-TTL:PT1H
BEGIN:VTIMEZONE
TZID:America/New_York
BEGIN:DAYLIGHT
TZOFFSETFROM:-0500
TZOFFSETTO:-0400
TZNAME:EDT
DTSTART:20250309T070000
END:DAYLIGHT
BEGIN:STANDARD
TZOFFSETFROM:-0400
TZOFFSETTO:-0500
TZNAME:EST
DTSTART:20251102T060000
END:STANDARD
BEGIN:DAYLIGHT
TZOFFSETFROM:-0500
TZOFFSETTO:-0400
TZNAME:EDT
DTSTART:20260308T070000
END:DAYLIGHT
BEGIN:STANDARD
TZOFFSETFROM:-0400
TZOFFSETTO:-0500
TZNAME:EST
DTSTART:20261101T060000
END:STANDARD
BEGIN:DAYLIGHT
TZOFFSETFROM:-0500
TZOFFSETTO:-0400
TZNAME:EDT
DTSTART:20270314T070000
END:DAYLIGHT
BEGIN:STANDARD
TZOFFSETFROM:-0400
TZOFFSETTO:-0500
TZNAME:EST
DTSTART:20271107T060000
END:STANDARD
END:VTIMEZONE
BEGIN:VEVENT
DTSTART;TZID=America/New_York:20260404T120000
DTEND;TZID=America/New_York:20260404T160000
DTSTAMP:20260422T084323
CREATED:20260331T230547Z
LAST-MODIFIED:20260403T171743Z
UID:10008081-1775304000-1775318400@ilovebabylon.com
SUMMARY:Meet Your New Best Friend at our MOBILE PET ADOPTION EVENT!
DESCRIPTION:Find your new best friend a little closer to home as we bring our adoptable dogs and puppies to your neighborhood! \nEVENT DETAILS:Saturday\, April 412pm – 4pm ET \nPetSmart 241 Airport Plaza Blvd.Farmingdale\, NY \nGet preapproved by emailing offsite@animalleague.org!
URL:https://ilovebabylon.com/event/meet-your-new-best-friend-at-our-mobile-pet-adoption-event/
LOCATION:PetSmart (Farmingdale\, NY)\, PetSmart (Farmingdale\, NY)
END:VEVENT
END:VCALENDAR