BEGIN:VCALENDAR
VERSION:2.0
PRODID:-//I Love Babylon, NY - ECPv6.15.20//NONSGML v1.0//EN
CALSCALE:GREGORIAN
METHOD:PUBLISH
X-WR-CALNAME:I Love Babylon, NY
X-ORIGINAL-URL:https://ilovebabylon.com
X-WR-CALDESC:Events for I Love Babylon, NY
REFRESH-INTERVAL;VALUE=DURATION:PT1H
X-Robots-Tag:noindex
X-PUBLISHED-TTL:PT1H
BEGIN:VTIMEZONE
TZID:America/New_York
BEGIN:DAYLIGHT
TZOFFSETFROM:-0500
TZOFFSETTO:-0400
TZNAME:EDT
DTSTART:20250309T070000
END:DAYLIGHT
BEGIN:STANDARD
TZOFFSETFROM:-0400
TZOFFSETTO:-0500
TZNAME:EST
DTSTART:20251102T060000
END:STANDARD
BEGIN:DAYLIGHT
TZOFFSETFROM:-0500
TZOFFSETTO:-0400
TZNAME:EDT
DTSTART:20260308T070000
END:DAYLIGHT
BEGIN:STANDARD
TZOFFSETFROM:-0400
TZOFFSETTO:-0500
TZNAME:EST
DTSTART:20261101T060000
END:STANDARD
BEGIN:DAYLIGHT
TZOFFSETFROM:-0500
TZOFFSETTO:-0400
TZNAME:EDT
DTSTART:20270314T070000
END:DAYLIGHT
BEGIN:STANDARD
TZOFFSETFROM:-0400
TZOFFSETTO:-0500
TZNAME:EST
DTSTART:20271107T060000
END:STANDARD
END:VTIMEZONE
BEGIN:VEVENT
DTSTART;TZID=America/New_York:20260424T183000
DTEND;TZID=America/New_York:20260424T213000
DTSTAMP:20260424T004758
CREATED:20260331T231741Z
LAST-MODIFIED:20260423T174943Z
UID:10008121-1777055400-1777066200@ilovebabylon.com
SUMMARY:Serve the Servants\, Lightning Crashes and Seasons LIVE at The Warehouse
DESCRIPTION:🎸 90s Alternative Night at The Warehouse – Friday April 24th 🎸 \nGet ready for a powerful night of iconic ‘90s sound as three killer tribute bands take the stage at The Warehouse! \n🔥 Serve the Servants – Bringing the raw energy of Nirvana⚡ Lightning Crashed – A tribute to the soaring anthems of Live🌧 Seasons – Honoring the legendary sound of Chris Cornell \nFrom grunge to alt-rock classics\, this lineup delivers all the nostalgia and intensity of one of music’s greatest eras. \n🕡 Doors Open: 6:30 PM🎟 Tickets starting at $18.25 \nGrab your friends and come experience a night packed with unforgettable music and vibes you won’t want to miss.
URL:https://ilovebabylon.com/event/serve-the-servants-lightning-crashes-and-seasons-live-at-the-warehouse/
LOCATION:The Warehouse Live Music & Events\, The Warehouse Live Music & Events
END:VEVENT
BEGIN:VEVENT
DTSTART;TZID=America/New_York:20260425T190000
DTEND;TZID=America/New_York:20260425T220000
DTSTAMP:20260424T004758
CREATED:20260323T124612Z
LAST-MODIFIED:20260423T175049Z
UID:10008044-1777143600-1777154400@ilovebabylon.com
SUMMARY:The Greatest Tour Ever - Red Hot Chili Peppers\, Smashing Pumpkins\, Pearl Jam
DESCRIPTION:In 1991\, the Red Hot Chili Peppers followed up the release of BloodSugarSexMagik with a tour that featured alt-rock pioneers Smashing Pumpkins and the then unknown\, Seattle band\, Pearl Jam. \nThis tour is often cited as the greatest tour ever and we pay tribute to this iconic line up with three tribute bands.Get Tickets 🎟️: https://www.thewarehouseli.com/
URL:https://ilovebabylon.com/event/the-greatest-tour-ever-red-hot-chili-peppers-smashing-pumpkins-pearl-jam/
LOCATION:The Warehouse Live Music & Events\, The Warehouse Live Music & Events
END:VEVENT
BEGIN:VEVENT
DTSTART;TZID=America/New_York:20260426T140000
DTEND;TZID=America/New_York:20260426T180000
DTSTAMP:20260424T004758
CREATED:20260323T124652Z
LAST-MODIFIED:20260423T175119Z
UID:10008048-1777212000-1777226400@ilovebabylon.com
SUMMARY:Tuff Tails Animal Rescue 15th Annual Rock 'n Rollapalooza!
DESCRIPTION:Are you ready!!?? Ready for the opening party (along with a motorcycle run from Queens of course!) of the year?Yes folks we are happy to announce it’s the 15th Annual Tuff Tails Animal Rescue Rock n Rollapalooza 2026!! \nIf you have attended this day of merry mayhem before\, you know what we’re talkin’ about!Friends\, family\, musicians\, bikers\, animal peeps – we all come together as one in support of the homeless dogs and cats!Live bands\, out of control crazy-great raffles including original artwork\, and a day spent with the best peeps imaginable all for the cause!  \nThe GTB Band and the Godfrey Townsend Band will be in the house!Lots of great players including some kick-ass vocalists sharing the stage!Rock n Roll at its finest. Annnnddd Maria Milito of Q104.3 once again emceeing!!  \nStill just a $10 donation at the door – how can you beat that?? More info will follow soon but we wanted to get this invite out so we can see how many hundreds this year will attend.Every year bigger and better if that’s possible.A great\, great day with a smile on everyone’s face!Can’t wait! \nTuff Tails Animal Rescue is a small\, all volunteer\, private\, 501c3 tax exempt organization.100% of any and all donations go right to homeless animals – NO exceptions. \nSee ya there rockstars!
URL:https://ilovebabylon.com/event/tuff-tails-animal-rescue-15th-annual-rock-n-rollapalooza/
LOCATION:The Warehouse Live Music & Events\, The Warehouse Live Music & Events
END:VEVENT
END:VCALENDAR