BEGIN:VCALENDAR
VERSION:2.0
PRODID:-//I Love Babylon, NY - ECPv6.15.20//NONSGML v1.0//EN
CALSCALE:GREGORIAN
METHOD:PUBLISH
X-WR-CALNAME:I Love Babylon, NY
X-ORIGINAL-URL:https://ilovebabylon.com
X-WR-CALDESC:Events for I Love Babylon, NY
REFRESH-INTERVAL;VALUE=DURATION:PT1H
X-Robots-Tag:noindex
X-PUBLISHED-TTL:PT1H
BEGIN:VTIMEZONE
TZID:America/New_York
BEGIN:DAYLIGHT
TZOFFSETFROM:-0500
TZOFFSETTO:-0400
TZNAME:EDT
DTSTART:20250309T070000
END:DAYLIGHT
BEGIN:STANDARD
TZOFFSETFROM:-0400
TZOFFSETTO:-0500
TZNAME:EST
DTSTART:20251102T060000
END:STANDARD
BEGIN:DAYLIGHT
TZOFFSETFROM:-0500
TZOFFSETTO:-0400
TZNAME:EDT
DTSTART:20260308T070000
END:DAYLIGHT
BEGIN:STANDARD
TZOFFSETFROM:-0400
TZOFFSETTO:-0500
TZNAME:EST
DTSTART:20261101T060000
END:STANDARD
BEGIN:DAYLIGHT
TZOFFSETFROM:-0500
TZOFFSETTO:-0400
TZNAME:EDT
DTSTART:20270314T070000
END:DAYLIGHT
BEGIN:STANDARD
TZOFFSETFROM:-0400
TZOFFSETTO:-0500
TZNAME:EST
DTSTART:20271107T060000
END:STANDARD
END:VTIMEZONE
BEGIN:VEVENT
DTSTART;TZID=America/New_York:20260322T110000
DTEND;TZID=America/New_York:20260322T140000
DTSTAMP:20260424T052641
CREATED:20260226T185214Z
LAST-MODIFIED:20260301T075556Z
UID:10007841-1774177200-1774188000@ilovebabylon.com
SUMMARY:Beatles Brunch at the Warehouse
DESCRIPTION:This is the makeup date for our snowed out show. Brunch is optional……. Tix available here:  https://www-152p.bookeo.com/bookeo/b_viewTime.html?bsid=6prhku3krppc734n&backNav=true&ncs=mpxl4wpwke&ncs2=ey3hehaerx
URL:https://ilovebabylon.com/event/beatles-brunch-at-the-warehouse/
LOCATION:The Warehouse Live Music & Events\, The Warehouse Live Music & Events
END:VEVENT
BEGIN:VEVENT
DTSTART;TZID=America/New_York:20260320T190000
DTEND;TZID=America/New_York:20260321T010000
DTSTAMP:20260424T052641
CREATED:20260226T185055Z
LAST-MODIFIED:20260312T175551Z
UID:10007831-1774033200-1774054800@ilovebabylon.com
SUMMARY:Decadia + DJ MDW @ THE WAREHOUSE LI
DESCRIPTION:Now that the blizzard of 2026 is behind us\, let’s make some room for one of the hottest bands on Long Island Decadia to rattle your boots. I will be throwing down your favorite party joints The Warehouse Live Music & Events #decadia #djmdw #theearehouse #power787radio
URL:https://ilovebabylon.com/event/decadia-dj-mdw-the-warehouse-li/
LOCATION:The Warehouse Live Music & Events\, The Warehouse Live Music & Events
CATEGORIES:Music
END:VEVENT
BEGIN:VEVENT
DTSTART;TZID=America/New_York:20260319T190000
DTEND;TZID=America/New_York:20260319T220000
DTSTAMP:20260424T052641
CREATED:20260226T185039Z
LAST-MODIFIED:20260312T175530Z
UID:10007825-1773946800-1773957600@ilovebabylon.com
SUMMARY:Playin' English Back at the Warehouse!
DESCRIPTION:Join us for an evening of Squeeze\, Joe Jackson\, Elvis Costello\, Tears for Fears and more!
URL:https://ilovebabylon.com/event/playin-english-back-at-the-warehouse/
LOCATION:The Warehouse Live Music & Events\, The Warehouse Live Music & Events
END:VEVENT
BEGIN:VEVENT
DTSTART;TZID=America/New_York:20260318T183000
DTEND;TZID=America/New_York:20260318T213000
DTSTAMP:20260424T052641
CREATED:20260312T175507Z
LAST-MODIFIED:20260312T175507Z
UID:10007923-1773858600-1773869400@ilovebabylon.com
SUMMARY:Half Step - Grateful Dead Tribute at The Warehouse
DESCRIPTION:Half Step – Grateful Dead Tribute at The Warehouse \nWednesday March 18\, 2026 \nHalf Step – Playing the Music of Grateful Dead and More \nTickets available at: www.thewarehouseli.com/calendar \nWalk-ins welcome \nDoors 6:30pm
URL:https://ilovebabylon.com/event/half-step-grateful-dead-tribute-at-the-warehouse/
LOCATION:The Warehouse Live Music & Events\, The Warehouse Live Music & Events
END:VEVENT
BEGIN:VEVENT
DTSTART;TZID=America/New_York:20260314T183000
DTEND;TZID=America/New_York:20260314T213000
DTSTAMP:20260424T052641
CREATED:20260307T121958Z
LAST-MODIFIED:20260312T175358Z
UID:10007900-1773513000-1773523800@ilovebabylon.com
SUMMARY:St. Paddy's Day Party with The Legendary Murphys and The Byrne Unit at The Warehouse
DESCRIPTION:St. Paddy’s Day Party with The Legendary Murphys and The Byrne Unit at The Warehouse \nSaturday March 14\, 2026 \nShamrock Shenanigans with THE LEGENDARY MURPHYS and Total Tomfoolery with The Byrne Unit! \nFood and Drink Specials and Giveaways All Night! \nTickets available at: www.thewarehouseli.com/calendar \nDoors 6:30pm
URL:https://ilovebabylon.com/event/st-paddys-day-party-with-the-legendary-murphys-and-the-byrne-unit-at-the-warehouse/
LOCATION:The Warehouse Live Music & Events\, The Warehouse Live Music & Events
END:VEVENT
BEGIN:VEVENT
DTSTART;TZID=America/New_York:20260313T214500
DTEND;TZID=America/New_York:20260314T004500
DTSTAMP:20260424T052641
CREATED:20260307T121940Z
LAST-MODIFIED:20260312T175321Z
UID:10007897-1773438300-1773449100@ilovebabylon.com
SUMMARY:Tribute Banned back at The Warehouse
DESCRIPTION:Join us as we hit the stage right after Vinyl Revival!
URL:https://ilovebabylon.com/event/tribute-banned-back-at-the-warehouse/
LOCATION:The Warehouse Live Music & Events\, The Warehouse Live Music & Events
END:VEVENT
BEGIN:VEVENT
DTSTART;TZID=America/New_York:20260313T190000
DTEND;TZID=America/New_York:20260313T220000
DTSTAMP:20260424T052641
CREATED:20260226T184822Z
LAST-MODIFIED:20260312T175311Z
UID:10007809-1773428400-1773439200@ilovebabylon.com
SUMMARY:Vinyl Revival Live at The Warehouse LI Friday\, March 13th\, 2026\, Showtime 7 p.m.
DESCRIPTION:Join Vinyl Revival on Friday\, March 13th\, as we heat up the stage at the Warehouse in Amityville\,LI.It’s the ultimate Friday night out with Long Island’s premier cover band. Expect a great atmosphere\, delicious food and specialty cocktails. Don’t miss the nonstop dancing! Showtime starts at 7pm. \nThe Warehouse LI 203 BroadwayAmityville\, NY
URL:https://ilovebabylon.com/event/vinyl-revival-live-at-the-warehouse-li-friday-march-13th-2026-showtime-7-p-m/
LOCATION:The Warehouse Live Music & Events\, The Warehouse Live Music & Events
END:VEVENT
BEGIN:VEVENT
DTSTART;TZID=America/New_York:20260313T183000
DTEND;TZID=America/New_York:20260313T213000
DTSTAMP:20260424T052641
CREATED:20260307T121933Z
LAST-MODIFIED:20260312T175303Z
UID:10007896-1773426600-1773437400@ilovebabylon.com
SUMMARY:St. Paddy's Day Kickoff with Vinyl Revival and Tribute Banned at The Warehouse
DESCRIPTION:St. Paddy’s Day Kickoff with Vinyl Revival and Tribute Banned at The Warehouse \nFriday March 13\, 2026 \nVinyl Revival – Dance\, Motown\, and Funk Rock \nand \nTribute Banned – Rock Covers and Party Favorites \nDJ Ronnie Sparks keeps the party going all night \nTickets available at: www.thewarehouseli.com/calendar \nWalk-ins welcome \nDoors 6:30pm
URL:https://ilovebabylon.com/event/st-paddys-day-kickoff-with-vinyl-revival-and-tribute-banned-at-the-warehouse/
LOCATION:The Warehouse Live Music & Events\, The Warehouse Live Music & Events
END:VEVENT
BEGIN:VEVENT
DTSTART;TZID=America/New_York:20260307T220000
DTEND;TZID=America/New_York:20260308T010000
DTSTAMP:20260424T052641
CREATED:20260226T184742Z
LAST-MODIFIED:20260307T121824Z
UID:10007793-1772920800-1772931600@ilovebabylon.com
SUMMARY:Pour Some 80's On Me at The Warehouse!
DESCRIPTION:🎸✨ Back to the 80s at The Warehouse! ✨🎸 \nGet ready to crank up the nostalgia! Pour Some 80’s On Me is bringing all your favorite 1980s rock & pop hits to The Warehouse in Amityville on Saturday\, March 7 at 10PM. \nBig hair\, neon vibes\, sing-along anthems\, and high-energy fun all night long — this is your ultimate throwback party! Grab your friends\, rock your best 80s look\, and get ready to dance and sing like it’s 1989. \n📍 The Warehouse – Amityville⏰ Saturday\, March 7 | 10PM🎶 Pour Some 80’s On Me \nDon’t miss it — let’s party like the 80s never ended! 🕺🎤🎶
URL:https://ilovebabylon.com/event/pour-some-80s-on-me-at-the-warehouse-2/
LOCATION:The Warehouse Live Music & Events\, The Warehouse Live Music & Events
END:VEVENT
BEGIN:VEVENT
DTSTART;TZID=America/New_York:20260306T190000
DTEND;TZID=America/New_York:20260306T220000
DTSTAMP:20260424T052641
CREATED:20260226T184557Z
LAST-MODIFIED:20260307T121740Z
UID:10007779-1772823600-1772834400@ilovebabylon.com
SUMMARY:SOUTHERN ROCK at The Warehouse L.I. March 6
DESCRIPTION:The RETURN of Sons Of Skynyrd: Southern Rock Night at The Warehouse MARCH 6 with Sons Of Skynyrd at 7pm) and Tucker Stevens Band at 10pm). Table reservations and tickets at www.thewarehouseli.com. \n@followers@everyone #longisland #longislandlivemusic #NassauCountyNY #longislandnewyork #southernrock #LynyrdSkynyrd #longislandevents#lynyrdskynyrd #lynyrdskynyrdtribute #southernrock #southernrockmusic #longisland #RonnieVanZant #countrymusic #countryrock #simpleman #freebird #sweethomealabama #thatsmell #riverhead #riverheadny #jamesport #jamesportfarmbrewery #70srock #stephenstalkhouse #northshorelongisland #easternlongisland #suffolkcounty #amityville
URL:https://ilovebabylon.com/event/southern-rock-at-the-warehouse-l-i-march-6/
LOCATION:The Warehouse Live Music & Events\, The Warehouse Live Music & Events
CATEGORIES:Music
END:VEVENT
BEGIN:VEVENT
DTSTART;TZID=America/New_York:20260306T183000
DTEND;TZID=America/New_York:20260306T213000
DTSTAMP:20260424T052641
CREATED:20260226T184549Z
LAST-MODIFIED:20260307T121736Z
UID:10007777-1772821800-1772832600@ilovebabylon.com
SUMMARY:SOS & TSB at The Warehouse Li
DESCRIPTION:Sons of Skynyrd & The Tucker Stevens Band will be at The Warehouse on Friday\, 3/6 with 2 great shows at 7 & 10pm.Eat\, Drink and Dance all night\, Doors open 6:30 reservations strongly suggested. \n❤️@Tucker Stevens~Tickets and Reservations available at:www.thewarehouseli.com/calendar
URL:https://ilovebabylon.com/event/sos-tsb-at-the-warehouse-li/
LOCATION:The Warehouse Live Music & Events\, The Warehouse Live Music & Events
END:VEVENT
BEGIN:VEVENT
DTSTART;TZID=America/New_York:20260305T190000
DTEND;TZID=America/New_York:20260305T213000
DTSTAMP:20260424T052641
CREATED:20260226T184543Z
LAST-MODIFIED:20260302T135229Z
UID:10007775-1772737200-1772746200@ilovebabylon.com
SUMMARY:Bingopalooza!
DESCRIPTION:Tickets link: https://tinyurl.com/zn2vkzhm \n🎤 DRINK! SING! PLAY! WIN!NYC’s wildest Music Bingo party is here — BINGOPALOOZA! \nGet ready for a high-energy night where music\, games\, and total chaos collide. This isn’t your grandma’s bingo — it’s a full-blown party that pulls you into the action. \nWhat’s going down:🎶 High-energy Music Bingo sing-alongs🎮 On-stage games inspired by Name That Tune\, Guess the Lyric\, & Let’s Make a Deal🎁 Massive prizes\, surprise challenges & bonus rounds🍻 Wild audience participation all night long \nHosted by Sal Governale\, Billy Mira & DJ Evan Brandwein. \n🔥 Loud. Unpredictable. Ridiculously fun.BINGOPALOOZA isn’t just a night out — it’s a high-voltage experience you won’t forget. \n🎟️ Grab tickets before it sells out:https://tinyurl.com/zn2vkzhm \nPrice includes admission to the show\, bingo cards\, and raffle entry to the additional stage games happening all night! Plus we’re handing out scratch offs for even more prizes! Food and drink menu provided from the venue. Get there at 7pm to get cozy and enjoy the show!
URL:https://ilovebabylon.com/event/bingopalooza/
LOCATION:The Warehouse Live Music & Events\, The Warehouse Live Music & Events
CATEGORIES:Featured Events,Music
END:VEVENT
BEGIN:VEVENT
DTSTART;TZID=America/New_York:20260304T200000
DTEND;TZID=America/New_York:20260304T230000
DTSTAMP:20260424T052641
CREATED:20260226T184537Z
LAST-MODIFIED:20260301T074928Z
UID:10007772-1772654400-1772665200@ilovebabylon.com
SUMMARY:Tiger Rose At The Warehouse
DESCRIPTION:Two sets of Jerry Band Jams!
URL:https://ilovebabylon.com/event/tiger-rose-at-the-warehouse-6/
LOCATION:The Warehouse Live Music & Events\, The Warehouse Live Music & Events
END:VEVENT
BEGIN:VEVENT
DTSTART;TZID=America/New_York:20260228T220000
DTEND;TZID=America/New_York:20260301T010000
DTSTAMP:20260424T052641
CREATED:20260226T184446Z
LAST-MODIFIED:20260301T074817Z
UID:10007757-1772316000-1772326800@ilovebabylon.com
SUMMARY:Zocial live at The Warehouse
DESCRIPTION:Zocial is a high energy party band covering all the Decades of Rock. They will be sharing the stage with the Legendary Murphy’s covering all your classic rock.
URL:https://ilovebabylon.com/event/zocial-live-at-the-warehouse/
LOCATION:The Warehouse Live Music & Events\, The Warehouse Live Music & Events
END:VEVENT
BEGIN:VEVENT
DTSTART;TZID=America/New_York:20260228T183000
DTEND;TZID=America/New_York:20260228T213000
DTSTAMP:20260424T052641
CREATED:20260226T184428Z
LAST-MODIFIED:20260301T074753Z
UID:10007751-1772303400-1772314200@ilovebabylon.com
SUMMARY:The Legendary Murphys and Zocial at The Warehouse
DESCRIPTION:The Legendary Murphys and Zocial at The Warehouse \nSaturday February 28\, 2026 \nThe Legendary Murphys – Guitar-driven Classic Rock with a Shamrock Twist \nand \nZocial – High-powered Rock from the 70’s through today.  \nTickets available at: www.thewarehouseli.com/calendar \nWalk-ins welcome \nDoors 6:30pm
URL:https://ilovebabylon.com/event/the-legendary-murphys-and-zocial-at-the-warehouse/
LOCATION:The Warehouse Live Music & Events\, The Warehouse Live Music & Events
END:VEVENT
BEGIN:VEVENT
DTSTART;TZID=America/New_York:20260227T190000
DTEND;TZID=America/New_York:20260227T220000
DTSTAMP:20260424T052641
CREATED:20260217T190259Z
LAST-MODIFIED:20260226T184346Z
UID:10007731-1772218800-1772229600@ilovebabylon.com
SUMMARY:Eclipse-Long Island's PREMIERE Tribute to Pink Floyd at The Warehouse
DESCRIPTION:Eclipse-Long Island’s PREMIERE Tribute to Pink Floyd returns to the Warehouse for a powerful set taking you on a journey from Meddle to The Wall. \nEclipse is the real deal. If you want to experience a Pink Floyd concert but can’t find your Time Machine\, no worries. Come to the Warehouse on Feb 27…
URL:https://ilovebabylon.com/event/eclipse-long-islands-premiere-tribute-to-pink-floyd-at-the-warehouse/
LOCATION:The Warehouse Live Music & Events\, The Warehouse Live Music & Events
END:VEVENT
BEGIN:VEVENT
DTSTART;TZID=America/New_York:20260227T183000
DTEND;TZID=America/New_York:20260227T213000
DTSTAMP:20260424T052641
CREATED:20260226T184342Z
LAST-MODIFIED:20260226T184342Z
UID:10007745-1772217000-1772227800@ilovebabylon.com
SUMMARY:Eclipse and Mission Prog at The Warehouse
DESCRIPTION:Eclipse and Mission Prog at The Warehouse \nFriday February 27\, 2026 \nEclipse – Pink Floyd Tribute \nand \nMission Prog – A Tribute to the Giants of Prog Rock \nTickets available at: www.thewarehouseli.com/calendar \nWalk-ins welcome \nDoors 6:30pm
URL:https://ilovebabylon.com/event/eclipse-and-mission-prog-at-the-warehouse/
LOCATION:The Warehouse Live Music & Events\, The Warehouse Live Music & Events
END:VEVENT
BEGIN:VEVENT
DTSTART;TZID=America/New_York:20260226T193000
DTEND;TZID=America/New_York:20260226T223000
DTSTAMP:20260424T052641
CREATED:20260125T215218Z
LAST-MODIFIED:20260302T135256Z
UID:10007605-1772134200-1772145000@ilovebabylon.com
SUMMARY:Diva’s of Music Television
DESCRIPTION:***SNOWSTORM SPECIAL 48 HOUR FLASH SALE******50% OFF ALL TICKETS******USE PROMO CODE DIVASOFMTV AT CHECKOUT*** \nFreeze the Weather\, Heat Up Your Plans! \nThursday February 26\, 2026 \nThe Diva’s Of Music Televisionare back at The Warehouse Live Music & Events! \nThey will transport you on a musical journey back in time to one of the best decades\, the iconic 80’s\, with some of your favorites ranging from Whitney Houston\, Cyndi Lauper\, Madonna\, and more! Don’t miss this hot throwback Thursday event! \nTickets available at: www.thewarehouseli.com/calendar \nDoors 7pm \n#TheWarehouseLI #Amityville #LongIsland #LiveMusic #DivasOfMusicTelevision #DivasOfMTV #MusicTelevision #MTV #VideoKilledTheRadioStar #Madonna #JanetJackson #CyndiLauper #PaulaAbdul #WhitneyHouston #80s #80sLadies #ladiesOfThe80s #80sMusic #80sFans #DivasToTheDancefloor #LongIslandDivas #LongIslandMusicians #LongIslandBands #LongIslandMusicScene #LongIslandNightlife #LongIslandConcerts #LongIslandEvents #SupportLocalMusic Kevin Sheehan’s Live Music/Events/Club Info
URL:https://ilovebabylon.com/event/divas-of-music-television/
LOCATION:The Warehouse Live Music & Events\, The Warehouse Live Music & Events
CATEGORIES:Music
END:VEVENT
BEGIN:VEVENT
DTSTART;TZID=America/New_York:20260226T183000
DTEND;TZID=America/New_York:20260226T213000
DTSTAMP:20260424T052641
CREATED:20260226T184315Z
LAST-MODIFIED:20260302T135258Z
UID:10007737-1772130600-1772141400@ilovebabylon.com
SUMMARY:Divas of Music Television at The Warehouse
DESCRIPTION:Divas of Music Television at The Warehouse \nThursday February 26\, 2026 \nDivas of Music Television – The Divas of Music Television are back transporting you on a musical journey back in time to one of the best decades\, the iconic 80’s\, with some of your favorites ranging from Whitney Houston\, Cyndi Lauper\, Madonna\, and more!  \nDon’t miss this hot throwback Thursday event!  \nTickets available at: www.thewarehouseli.com/calendar \nWalk-ins welcome \nDoors 6:30pm
URL:https://ilovebabylon.com/event/divas-of-music-television-at-the-warehouse/
LOCATION:The Warehouse Live Music & Events\, The Warehouse Live Music & Events
CATEGORIES:Music
END:VEVENT
BEGIN:VEVENT
DTSTART;TZID=America/New_York:20260222T110000
DTEND;TZID=America/New_York:20260222T140000
DTSTAMP:20260424T052641
CREATED:20260217T190211Z
LAST-MODIFIED:20260302T135305Z
UID:10007717-1771758000-1771768800@ilovebabylon.com
SUMMARY:Beatles Brunch with Beyond Fab at The Warehouse
DESCRIPTION:Please join us for this spcial brunch as we play music from the Beatles as well as other related rock tunes!!  \nTickets available at: www.thewarehousel.com/calendar
URL:https://ilovebabylon.com/event/beatles-brunch-with-beyond-fab-at-the-warehouse/
LOCATION:The Warehouse Live Music & Events\, The Warehouse Live Music & Events
CATEGORIES:Music
END:VEVENT
BEGIN:VEVENT
DTSTART;TZID=America/New_York:20260220T190000
DTEND;TZID=America/New_York:20260220T220000
DTSTAMP:20260424T052641
CREATED:20260125T214449Z
LAST-MODIFIED:20260302T135322Z
UID:10007594-1771614000-1771624800@ilovebabylon.com
SUMMARY:Petty People At The Warehouse LI
DESCRIPTION:Hey Long Island\, we’re coming back! Join Petty People\, the nation’s fastest rising Tom Petty tribute Friday\, Feb. 20th\, 7PM at The Warehouse LI (37 West Main St.\, Amityville\, NY) for a multi-media Petty Party you’ll never forget! Dance and sing along to your favorite Heartbreakers hits along with a deep cut or two!But wait\, there’s more! When we’re done\, stay right where you are\, because your ticket is good for “NY To Boston”\, a tribute to the music of Boston!Tickets: https://www.thewarehouseli.com/calendar/
URL:https://ilovebabylon.com/event/petty-people-at-the-warehouse-li-2/
LOCATION:The Warehouse Live Music & Events\, The Warehouse Live Music & Events
CATEGORIES:Music
END:VEVENT
BEGIN:VEVENT
DTSTART;TZID=America/New_York:20260219T183000
DTEND;TZID=America/New_York:20260219T233000
DTSTAMP:20260424T052641
CREATED:20260217T190106Z
LAST-MODIFIED:20260302T135328Z
UID:10007704-1771525800-1771543800@ilovebabylon.com
SUMMARY:Sceneless Scene Showcase #107: Avrilution\, Andre Park\, Wanderer's Soul\, Daysie And The Garden + More
DESCRIPTION:✨️SCENELESS SCENE 107✨️ ✨️ AT THE WAREHOUSE IN AMITYVILLE✨️  \nWhat is Sceneless Scene Showcase? \nA Musical Festival Meets Art Show Meets Flea Market Extravaganza\, Dedicated To Showcasing Local Long Island Crafts\, Goods & Talent! \nWith Local Music From Avrilution\, Andre Park\, Wanderer’s Soul\, Daysie And The Garden\, Max Lee & Fluffhead! \nLocal Visual Art & Vendors Via Cornucopia’s Curios\, Dresch Designs\, GM Art\, Jillery Jewels\, Karen’s Kreations\, Sands and Threads! \nHosted By Maxwell Peters & Grace Vixen! \n18+ $15 At The Door / $12 Advanced \nLINK FOR REBATED TIXhttps://account.venmo.com/u/mxwpeters \nJust type “SSS107” in the notes and we will add your name to the door list! \nPresented By Planet Of Sound Promotions & Planet Of Vision Promotions!!
URL:https://ilovebabylon.com/event/sceneless-scene-showcase-107-avrilution-andre-park-wanderers-soul-daysie-and-the-garden-more/
LOCATION:The Warehouse Live Music & Events\, The Warehouse Live Music & Events
CATEGORIES:Music
END:VEVENT
BEGIN:VEVENT
DTSTART;TZID=America/New_York:20260218T200000
DTEND;TZID=America/New_York:20260218T230000
DTSTAMP:20260424T052641
CREATED:20260125T214442Z
LAST-MODIFIED:20260217T190058Z
UID:10007591-1771444800-1771455600@ilovebabylon.com
SUMMARY:Tiger Rose At The Warehouse
DESCRIPTION:Two sets of Jerry Band Jams!
URL:https://ilovebabylon.com/event/tiger-rose-at-the-warehouse-5/
LOCATION:The Warehouse Live Music & Events\, The Warehouse Live Music & Events
END:VEVENT
BEGIN:VEVENT
DTSTART;TZID=America/New_York:20260218T183000
DTEND;TZID=America/New_York:20260218T213000
DTSTAMP:20260424T052641
CREATED:20260212T190350Z
LAST-MODIFIED:20260302T135332Z
UID:10007694-1771439400-1771450200@ilovebabylon.com
SUMMARY:Celebrate the Music of Jerry Garcia with Tiger Rose at The Warehouse
DESCRIPTION:Celebrate the Music of Jerry Garcia with Tiger Rose at The Warehouse \nWednesday February 18\, 2026 \nTiger Rose – Playing Jerry Garcia Band\, Grateful Dead\, and More! \nTickets available at: www.thewarehouseli.com/calendar \nDoors 6:30pm
URL:https://ilovebabylon.com/event/celebrate-the-music-of-jerry-garcia-with-tiger-rose-at-the-warehouse/
LOCATION:The Warehouse Live Music & Events\, The Warehouse Live Music & Events
CATEGORIES:Music
END:VEVENT
BEGIN:VEVENT
DTSTART;TZID=America/New_York:20260215T190000
DTEND;TZID=America/New_York:20260215T220000
DTSTAMP:20260424T052641
CREATED:20260125T214426Z
LAST-MODIFIED:20260212T190315Z
UID:10007584-1771182000-1771192800@ilovebabylon.com
SUMMARY:Tiger Rose At The Winter Jamboree
DESCRIPTION:1 set at the Winter Jamboree!
URL:https://ilovebabylon.com/event/tiger-rose-at-the-winter-jamboree/
LOCATION:The Warehouse Live Music & Events\, The Warehouse Live Music & Events
END:VEVENT
BEGIN:VEVENT
DTSTART;TZID=America/New_York:20260215T130000
DTEND;TZID=America/New_York:20260215T160000
DTSTAMP:20260424T052641
CREATED:20260125T214418Z
LAST-MODIFIED:20260212T190248Z
UID:10007581-1771160400-1771171200@ilovebabylon.com
SUMMARY:MKU jams the Winter Jamboree!
DESCRIPTION:Another funday on a Sunday with Half Step\, The Electrix\, Tiger Rose and Brother Pluckers!
URL:https://ilovebabylon.com/event/mku-jams-the-winter-jamboree/
LOCATION:The Warehouse Live Music & Events\, The Warehouse Live Music & Events
END:VEVENT
BEGIN:VEVENT
DTSTART;TZID=America/New_York:20260215T123000
DTEND;TZID=America/New_York:20260215T153000
DTSTAMP:20260424T052641
CREATED:20260212T190245Z
LAST-MODIFIED:20260212T190245Z
UID:10007682-1771158600-1771169400@ilovebabylon.com
SUMMARY:Winter Jamboree 6 West at The Warehouse
DESCRIPTION:Winter Jamboree 6 West at The Warehouse \nSunday February 15\, 2026 \nPresented by So Many Roads Productions and featuring performances by: \nHalf StepMKUTiger RoseThe Brother Pluckersand The Electrix \nTickets available at: www.thewarehouseli.com/calendar \nDoors 12:30pm
URL:https://ilovebabylon.com/event/winter-jamboree-6-west-at-the-warehouse/
LOCATION:The Warehouse Live Music & Events\, The Warehouse Live Music & Events
END:VEVENT
BEGIN:VEVENT
DTSTART;TZID=America/New_York:20260214T183000
DTEND;TZID=America/New_York:20260214T213000
DTSTAMP:20260424T052641
CREATED:20260212T190213Z
LAST-MODIFIED:20260212T190213Z
UID:10007676-1771093800-1771104600@ilovebabylon.com
SUMMARY:Valentine's Day with Decadia and DJ Andre at The Warehouse
DESCRIPTION:Valentine’s Day with Decadia and DJ Andre at The Warehouse \nSaturday February 14\, 2026 \nDecadia plays Dance and Pop from the 70s through today – the soundtrack of your life! \nDJ Andre spins WLIR/WDRE Classics all night! \nTickets available at: www.thewarehouseli.com/calendar \nDoors 6:30pm
URL:https://ilovebabylon.com/event/valentines-day-with-decadia-and-dj-andre-at-the-warehouse/
LOCATION:The Warehouse Live Music & Events\, The Warehouse Live Music & Events
END:VEVENT
BEGIN:VEVENT
DTSTART;TZID=America/New_York:20260213T220000
DTEND;TZID=America/New_York:20260214T010000
DTSTAMP:20260424T052641
CREATED:20260212T190134Z
LAST-MODIFIED:20260212T190134Z
UID:10007665-1771020000-1771030800@ilovebabylon.com
SUMMARY:Gacht Rock at The Warehouse
DESCRIPTION:February 13th. The Warehouse Live Music & Events . Will you be there?!!🎸🎶
URL:https://ilovebabylon.com/event/gacht-rock-at-the-warehouse/
LOCATION:The Warehouse Live Music & Events\, The Warehouse Live Music & Events
END:VEVENT
BEGIN:VEVENT
DTSTART;TZID=America/New_York:20260213T190000
DTEND;TZID=America/New_York:20260213T220000
DTSTAMP:20260424T052641
CREATED:20260125T214310Z
LAST-MODIFIED:20260212T190106Z
UID:10007573-1771009200-1771020000@ilovebabylon.com
SUMMARY:Love is in the Air with In The Groove at The Warehouse in Amityville
DESCRIPTION:Love is in the Air on Friday\, February 13 at The Warehouse\, so break out those Boogie Shoes and Come on Down and Groove!!!! Advance Tickets Available for Pre-purchase at thewarehouseli.com/calendar
URL:https://ilovebabylon.com/event/love-is-in-the-air-with-in-the-groove-at-the-warehouse-in-amityville/
LOCATION:The Warehouse Live Music & Events\, The Warehouse Live Music & Events
END:VEVENT
END:VCALENDAR